BEGIN:VCALENDAR
VERSION:2.0
PRODID:-//Santa Rosa Symphony - ECPv6.15.18//NONSGML v1.0//EN
CALSCALE:GREGORIAN
METHOD:PUBLISH
X-WR-CALNAME:Santa Rosa Symphony
X-ORIGINAL-URL:https://www.srsymphony.org
X-WR-CALDESC:Events for Santa Rosa Symphony
REFRESH-INTERVAL;VALUE=DURATION:PT1H
X-Robots-Tag:noindex
X-PUBLISHED-TTL:PT1H
BEGIN:VTIMEZONE
TZID:America/Los_Angeles
BEGIN:DAYLIGHT
TZOFFSETFROM:-0800
TZOFFSETTO:-0700
TZNAME:PDT
DTSTART:20230312T100000
END:DAYLIGHT
BEGIN:STANDARD
TZOFFSETFROM:-0700
TZOFFSETTO:-0800
TZNAME:PST
DTSTART:20231105T090000
END:STANDARD
BEGIN:DAYLIGHT
TZOFFSETFROM:-0800
TZOFFSETTO:-0700
TZNAME:PDT
DTSTART:20240310T100000
END:DAYLIGHT
BEGIN:STANDARD
TZOFFSETFROM:-0700
TZOFFSETTO:-0800
TZNAME:PST
DTSTART:20241103T090000
END:STANDARD
BEGIN:DAYLIGHT
TZOFFSETFROM:-0800
TZOFFSETTO:-0700
TZNAME:PDT
DTSTART:20250309T100000
END:DAYLIGHT
BEGIN:STANDARD
TZOFFSETFROM:-0700
TZOFFSETTO:-0800
TZNAME:PST
DTSTART:20251102T090000
END:STANDARD
END:VTIMEZONE
BEGIN:VEVENT
DTSTART;TZID=America/Los_Angeles:20240730T080000
DTEND;TZID=America/Los_Angeles:20240730T170000
DTSTAMP:20260425T205743
CREATED:20240730T214448Z
LAST-MODIFIED:20250321T002110Z
UID:32365-1722326400-1722358800@www.srsymphony.org
SUMMARY:Young People’s Chamber Orchestra Heavy Harmonies II
DESCRIPTION:Repertoire subject to change \n\n\n\n\n\n\n\nWe gratefully acknowledge the generous contributions from the following:\n\n\n\nThe Young People’s Chamber Orchestra is sponsored by Garth Bixler \n\n\n\nBanner photo by Susan & Neil Silverman Photography
URL:https://www.srsymphony.org/event/young-peoples-chamber-orchestra-spring-concert/
CATEGORIES:Youth Ensemble
ATTACH;FMTTYPE=image/jpeg:https://www.srsymphony.org/wp-content/uploads/2024/05/srs-ypco-group-silverman-13-600.jpg
END:VEVENT
BEGIN:VEVENT
DTSTART;TZID=America/Los_Angeles:20240730T080000
DTEND;TZID=America/Los_Angeles:20240730T170000
DTSTAMP:20260425T205743
CREATED:20250804T235310Z
LAST-MODIFIED:20251107T200748Z
UID:35125-1722326400-1722358800@www.srsymphony.org
SUMMARY:Good Times Over a Ground (Bass): YPCO
DESCRIPTION:Repertoire subject to change \n\n\n\nAbout Young People’s Chamber Orchestra\n\n\n\nCurrently under the direction of Aaron Westman\, the Young People’s Chamber Orchestra (YPCO) is a string orchestra working without a conductor. Is designed to take accomplished young string players and mold them into high-functioning musicians with a complete attentiveness to detail and to each other within the context of the music. The director trains the musicians to interact and collaborate on high-level music-making and nuanced performance. \n\n\n\nTicket Information\n\n\n\nPre-concert $15/adult\, $5/youth                  \n\n\n\nAt the Door$20/adult\, $10/youth \n\n\n\nPlease note: the pre-concert price is valid until 11 AM of the Friday preceding the concert. After that\, tickets can only be purchased at the door. \n\n\n\nTicket fees apply.Tickets are sold through the Phoenix Theater. \n\n\n\nWe gratefully acknowledge the generous contributions from the following:\n\n\n\nYoung People’s Chamber Orchestra is sponsored by Garth Bixler \n\n\n\n\n\n\n\nPrograms\, dates\, artists\, and prices are subject to change without notice. Tickets are nonrefundable and subject to availability.\n\n\n\nBanner photo by Susan & Neil Silverman Photography
URL:https://www.srsymphony.org/event/young-peoples-chamber-orchestra-fall-concert/
CATEGORIES:Youth Ensemble
ATTACH;FMTTYPE=image/jpeg:https://www.srsymphony.org/wp-content/uploads/2025/08/group-photo-croped-for-web-all-events-page.jpg
END:VEVENT
END:VCALENDAR