BEGIN:VCALENDAR
VERSION:2.0
PRODID:-//Santa Rosa Symphony - ECPv6.15.18//NONSGML v1.0//EN
CALSCALE:GREGORIAN
METHOD:PUBLISH
X-ORIGINAL-URL:https://www.srsymphony.org
X-WR-CALDESC:Events for Santa Rosa Symphony
REFRESH-INTERVAL;VALUE=DURATION:PT1H
X-Robots-Tag:noindex
X-PUBLISHED-TTL:PT1H
BEGIN:VTIMEZONE
TZID:America/Los_Angeles
BEGIN:DAYLIGHT
TZOFFSETFROM:-0800
TZOFFSETTO:-0700
TZNAME:PDT
DTSTART:20230312T100000
END:DAYLIGHT
BEGIN:STANDARD
TZOFFSETFROM:-0700
TZOFFSETTO:-0800
TZNAME:PST
DTSTART:20231105T090000
END:STANDARD
BEGIN:DAYLIGHT
TZOFFSETFROM:-0800
TZOFFSETTO:-0700
TZNAME:PDT
DTSTART:20240310T100000
END:DAYLIGHT
BEGIN:STANDARD
TZOFFSETFROM:-0700
TZOFFSETTO:-0800
TZNAME:PST
DTSTART:20241103T090000
END:STANDARD
BEGIN:DAYLIGHT
TZOFFSETFROM:-0800
TZOFFSETTO:-0700
TZNAME:PDT
DTSTART:20250309T100000
END:DAYLIGHT
BEGIN:STANDARD
TZOFFSETFROM:-0700
TZOFFSETTO:-0800
TZNAME:PST
DTSTART:20251102T090000
END:STANDARD
END:VTIMEZONE
BEGIN:VEVENT
DTSTART;TZID=America/Los_Angeles:20240911T080000
DTEND;TZID=America/Los_Angeles:20240911T170000
DTSTAMP:20260425T192158
CREATED:20240911T200403Z
LAST-MODIFIED:20240911T221007Z
UID:32798-1726041600-1726074000@www.srsymphony.org
SUMMARY:Masterclass: David Green\, Trumpet
DESCRIPTION:Join us for an evening of trumpet playing with Santa Rosa Symphony Youth Ensembles alumnus and guest artist\, David Green.\n\n\n\nLocation\n\n\n\nSanta Rosa High School – Band Room \n\n\n\nAdmission\n\n\n\nFree & open to the public \n\n\n\nWhat is a Masterclass?\n\n\n\nA masterclass is an open lesson\, during which a student performs a solo work and is coached by a master teacher. Attending audience (that’s you) listen and learn as observers. It is a fun and informative opportunity to see a top-flight musician and music educator share insights and techniques and to watch a student learn and grow before your eyes. \n\n\n\nMuch of the advice given in a masterclass can be applied to any instrument. Therefore\, all musicians are encouraged to observe the masterclasses\, regardless of the instrument they play. Please spread the word and share this message with your students\, colleagues and friends! \n\n\n\nAbout David\n\n\n\nOriginally from the Bay Area\, California\, trumpeter David Green lives in New York City where he attends the Juilliard School. Green is an alumnus of the Santa Rosa Symphony Youth Ensembles and was first introduced to the joys of classical music when he joined the Debut Youth Orchestra at age 10. He was the winner of the 2018 SRSYO Concerto competition and is looking forward to playing in Weill Hall again.Green is a founding member of the Metropolis Brass Quintet\, a group that frequently concertizes in the New York City area\, including performances at the Metropolitan Museum of Art and Alice Tully Hall. In addition to regularly performing with the Juilliard Orchestra\, he plays baroque trumpet with Juilliard415\, Juilliard’s highly regarded period instrument ensemble. During his time with the ensemble\, Green has toured to the UK\, Scotland\, Germany\, and France. David has also traveled to Asia and Europe to attend various orchestral training programs.Green is active in NYCs freelancing scene\, teaches regularly\, and plays solo concerts in California and New York. In his free time\, David enjoys yoga\, running\, growing carnivorous plants\, and practicing outside. \n\n\n\n\n\n\n\nA big Thank You to Santa Rosa High School Instrumental Music for collaborating with is on this event!\n\n\n\nBe sure to come hear David perform Oskar Bohme’s Trumpet Concerto with the Santa Rosa Symphony Youth Orchestra on Sunday\, November 17 in Weill Hall\, Green Music Center!
URL:https://www.srsymphony.org/event/masterclass-david-green-trumpet/
CATEGORIES:Masterclass
ATTACH;FMTTYPE=image/png:https://www.srsymphony.org/wp-content/uploads/2024/09/david-green.png
END:VEVENT
BEGIN:VEVENT
DTSTART;TZID=America/Los_Angeles:20240911T080000
DTEND;TZID=America/Los_Angeles:20240911T170000
DTSTAMP:20260425T192158
CREATED:20240911T215725Z
LAST-MODIFIED:20241016T192517Z
UID:32824-1726041600-1726074000@www.srsymphony.org
SUMMARY:Masterclass: David McCarroll\, violin
DESCRIPTION:Students participating in the Masterclass\n\n\n\nYihe Wang\, 14 years oldSRSYO Concertmaster9th grade at Maria Carillo High SchoolMusic selection: Saint-Saens Violin Concerto No.3\, movement III.Benji Margulis\, 14 years old9th grade at Cardinal Newman High SchoolStudies with Anna WashburnMusic selection: Scherzo Tarantella by Wieniawski \n\n\n\nLocation\n\n\n\nWeill Hall\, Green Music Center on the Sonoma State University campus in Rohnert Park. \n\n\n\nAdmission\n\n\n\nEvent is free but a ticket is required to enter. Click on link above to secure your spot. Seating is limited. \n\n\n\nWhat is a Masterclass?\n\n\n\nA masterclass is an open lesson\, during which a student performs a solo work and is coached by a master teacher. Attending audience (that’s you) listen and learn as observers. It is a fun and informative opportunity to see a top-flight musician and music educator share insights and techniques and to watch a student learn and grow before your eyes. \n\n\n\nMuch of the advice given in a masterclass can be applied to any instrument. Therefore\, all musicians are encouraged to observe the masterclasses\, regardless of the instrument they play. Please spread the word and share this message with your students\, colleagues and friends! \n\n\n\nHow long is the Masterclass?\n\n\n\nThis Masterclass is approximately one hour long (4:00 pm – 5:00 pm) \n\n\n\nParking\n\n\n\nPlease note: You will need to pay to park while at this event. To purchase your parking permit in advance: BUY PERMIT
URL:https://www.srsymphony.org/event/masterclass-david-mccarroll-violin/
CATEGORIES:Masterclass
ATTACH;FMTTYPE=image/jpeg:https://www.srsymphony.org/wp-content/uploads/2024/02/25-FEATURE-Set-1-McCarroll-Photo-by-©Pilvax.jpg
END:VEVENT
END:VCALENDAR