BEGIN:VCALENDAR
VERSION:2.0
PRODID:-//Santa Rosa Symphony - ECPv6.15.18//NONSGML v1.0//EN
CALSCALE:GREGORIAN
METHOD:PUBLISH
X-ORIGINAL-URL:https://www.srsymphony.org
X-WR-CALDESC:Events for Santa Rosa Symphony
REFRESH-INTERVAL;VALUE=DURATION:PT1H
X-Robots-Tag:noindex
X-PUBLISHED-TTL:PT1H
BEGIN:VTIMEZONE
TZID:America/Los_Angeles
BEGIN:DAYLIGHT
TZOFFSETFROM:-0800
TZOFFSETTO:-0700
TZNAME:PDT
DTSTART:20230312T100000
END:DAYLIGHT
BEGIN:STANDARD
TZOFFSETFROM:-0700
TZOFFSETTO:-0800
TZNAME:PST
DTSTART:20231105T090000
END:STANDARD
BEGIN:DAYLIGHT
TZOFFSETFROM:-0800
TZOFFSETTO:-0700
TZNAME:PDT
DTSTART:20240310T100000
END:DAYLIGHT
BEGIN:STANDARD
TZOFFSETFROM:-0700
TZOFFSETTO:-0800
TZNAME:PST
DTSTART:20241103T090000
END:STANDARD
BEGIN:DAYLIGHT
TZOFFSETFROM:-0800
TZOFFSETTO:-0700
TZNAME:PDT
DTSTART:20250309T100000
END:DAYLIGHT
BEGIN:STANDARD
TZOFFSETFROM:-0700
TZOFFSETTO:-0800
TZNAME:PST
DTSTART:20251102T090000
END:STANDARD
END:VTIMEZONE
BEGIN:VEVENT
DTSTART;TZID=America/Los_Angeles:20240225T080000
DTEND;TZID=America/Los_Angeles:20240225T170000
DTSTAMP:20260423T131901
CREATED:20240226T021508Z
LAST-MODIFIED:20241121T222856Z
UID:28820-1708848000-1708880400@www.srsymphony.org
SUMMARY:Mahler’s Resurrection
DESCRIPTION:Concert Conversations with Francesco Lecce-Chong\n\n\n\nConcert Conversations are general seating and free to Classical Series concert ticket holders. Approximately 30 minutes in Weill Hall. \n\n\n\n\nSaturday\, December 7\, 2024 at 6:30 pm\n\n\n\nSunday\, December 8\, 2024 at 2:00 pm\n\n\n\nMonday\, December 9\, 2024 at 6:30 pm\n\n\n\n\nTickets\n\n\n\nYouths 7-17 years of age may receive one complimentary ticket with every paid adult. Request tickets through Patron Services at (707) 546-8742. Classical Series concerts only. \n\n\n\n$10 student rush tickets for college students with a valid student ID. Available starting 1-1/2 hours prior to the concert\, at the door only. Classical Series concerts only. \n\n\n\nSpotify Playlist\n\n\n\n\n\n\n\nPlan Your Visit\n\n\n\n              \n               \n               \n                    \n                        \n							                            														\n							\n\n    Program Notes                            \n                            							                            														\n							\n\n    Directions & More                            \n                            							                            														\n							\n\n    Seating Map                            \n                            							                            														\n							\n\n    Before the Concert                            \n                            							                            														\n							\n\n    At the Concert                            \n                            							                            														\n							\n\n    Dining & Hotels                            \n                            							                        \n                    \n            \n              \n      \n\n\n\n\n\n\n\nWe gratefully acknowledge the generous contributions from the following:\n\n\n\nClassical Series underwritten by Anderman Family FoundationConcert sponsored by The Donald & Maureen Green Orchestral Works Endowment FundConductor Francesco Lecce-Chong sponsored by David & Corinne ByrdCommissioned Work: Warum hast du gelitten? (World Premiere) by Jonathan Leshnoff sponsored by The Clarence E. Heller Charitable FoundationEsther Tonea sponsored by Mark DierkhisingGabrielle Beteag sponsored by Mark DierkhisingSonoma State University Symphonic Chorus sponsored by Linda & David HanesPre-concert talk sponsored by Jamei Haswell and Mack SchwingSeason Media Sponsor: The Press Democrat \n\n\n\n\n\n\n\nPrograms\, dates\, artists\, and prices are subject to change without notice. Tickets are subject to availability.\n\n\n\n\n\n\n\nPhoto of Esther Tonea by Victor Xie\, photo of Gabrielle Beteag by Lola Scott
URL:https://www.srsymphony.org/event/mahlers-resurrection/
CATEGORIES:Classical Series
ATTACH;FMTTYPE=image/jpeg:https://www.srsymphony.org/wp-content/uploads/2024/02/25-FEATURE-Set-3-Esther-Tonea-600x400-100-Photo-by-Vitor-Xie.jpg
END:VEVENT
BEGIN:VEVENT
DTSTART;TZID=America/Los_Angeles:20240225T080000
DTEND;TZID=America/Los_Angeles:20240225T170000
DTSTAMP:20260423T131901
CREATED:20240226T025225Z
LAST-MODIFIED:20241216T182105Z
UID:28838-1708848000-1708880400@www.srsymphony.org
SUMMARY:RACH & the Hollywood Sound
DESCRIPTION:Concert Conversations with Francesco Lecce-Chong\n\n\n\nConcert Conversations are general seating and free to Classical Series concert ticket holders. Approximately 30 minutes in Weill Hall. \n\n\n\n\nSaturday\, January 11\, 2025 at 6:30 pm\n\n\n\nSunday\, January 12\, 2025 at 2:00 pm\n\n\n\nMonday\, January 13\, 2025 at 6:30 pm\n\n\n\n\nTickets\n\n\n\nYouths 7-17 years of age may receive one complimentary ticket with every paid adult. Request tickets through Patron Services at (707) 546-8742. Classical Series concerts only. \n\n\n\n$10 student rush tickets for college students with a valid student ID. Available starting 1-1/2 hours prior to the concert\, at the door only. Classical Series concerts only. \n\n\n\nSpotify Playlist\n\n\n\n\n\n\n\nPlan Your Visit\n\n\n\n              \n               \n               \n                    \n                        \n							                            														\n							\n\n    Program Notes                            \n                            							                            														\n							\n\n    Learn about Discovery Rehearsals                            \n                            							                            														\n							\n\n    Directions & More                            \n                            							                            														\n							\n\n    Seating Map                            \n                            							                            														\n							\n\n    Before the Concert                            \n                            							                            														\n							\n\n    At the Concert                            \n                            							                            														\n							\n\n    Dining & Hotels                            \n                            							                        \n                    \n            \n              \n      \n\n\n\n\n\n\n\nWe gratefully acknowledge the generous contributions from the following:\n\n\n\nClassical Series underwritten by Anderman Family FoundationSponsored by Willow Creek Wealth ManagementConductor Francesco Lecce-Chong sponsored by David & Corinne ByrdAdelle-Akiko Kearns sponsored by Garth BixlerAndrew Harrison sponsored by Garth BixlerDiscovery Rehearsal Series sponsored by The Stare Foundation and David Stare of Dry Creek VineyardPre-concert talk sponsored by Jamei Haswell and Mack SchwingSeason Media Sponsor: The Press Democrat \n\n\n\n\n\n\n\nPrograms\, dates\, artists\, and prices are subject to change without notice. Tickets are subject to availability.\n\n\n\n\n\n\n\nPhoto by Susan and Neil Silverman Photography
URL:https://www.srsymphony.org/event/rach-the-hollywood-sound-4/
CATEGORIES:Classical Series
ATTACH;FMTTYPE=image/jpeg:https://www.srsymphony.org/wp-content/uploads/2024/02/25-feature-set-4-rach-600x400.jpg
END:VEVENT
BEGIN:VEVENT
DTSTART;TZID=America/Los_Angeles:20240225T080000
DTEND;TZID=America/Los_Angeles:20240225T170000
DTSTAMP:20260423T131901
CREATED:20240226T031758Z
LAST-MODIFIED:20240927T165520Z
UID:28847-1708848000-1708880400@www.srsymphony.org
SUMMARY:Beethoven & Copland
DESCRIPTION:Concert Conversations\n\n\n\nConcert Conversations are general seating and free to Classical Series concert ticket holders. Approximately 30 minutes in Weill Hall. \n\n\n\n\nSaturday\, October 19\, 2024 at 6:30 pm\n\n\n\nSunday\, October 20\, 2024 at 2:00 pm\n\n\n\nMonday\, October 21\, 2024 at 6:30 pm\n\n\n\n\nTickets\n\n\n\nYouths 7-17 years of age may receive one complimentary ticket with every paid adult. Request tickets through Patron Services at (707) 546-8742. Classical Series concerts only. \n\n\n\n$10 student rush tickets for college students with a valid student ID. Available starting 1-1/2 hours prior to the concert\, at the door only. Classical Series concerts only. \n\n\n\nSpotify Playlist\n\n\n\n\n\n\n\nPlan Your Visit\n\n\n\n              \n               \n               \n                    \n                        \n							                            														\n							\n\n    Program Notess                            \n                            							                            														\n							\n\n    Learn about Discovery Rehearsals                            \n                            							                            														\n							\n\n    Directions & More                            \n                            							                            														\n							\n\n    Seating Map                            \n                            							                            														\n							\n\n    Before the Concert                            \n                            							                            														\n							\n\n    At the Concert                            \n                            							                            														\n							\n\n    Dining & Hotels                            \n                            							                        \n                    \n            \n              \n      \n\n\n\n\n\n\n\nWe gratefully acknowledge the generous contributions from the following:\n\n\n\nClassical Series underwritten by Anderman Family FoundationSponsored by Marcia Wagner\, in memory of Hap WagnerConductor Francesco Lecce-Chong sponsored by David & Corinne ByrdKai Ryssdal sponsored by Stephen & Lynn OlsenDavid McCarroll sponsored by Sig Anderman\, in memory of Susan AndermanThe music of Aaron Copland\, sponsored by Sam Guerrera\, in memory of Ava GuerreraDiscovery Rehearsal Series sponsored by The Stare Foundation and David Stare of Dry Creek VineyardPre-concert talk sponsored by Jamei Haswell and Mack SchwingSeason Media Sponsor: The Press Democrat \n\n\n\n\n\n\n\nPrograms\, dates\, artists\, and prices are subject to change without notice. Tickets are subject to availability.\n\n\n\n\n\n\n\nPhoto by Steve Riskind
URL:https://www.srsymphony.org/event/beethoven-copland/
CATEGORIES:Classical Series
ATTACH;FMTTYPE=image/jpeg:https://www.srsymphony.org/wp-content/uploads/2024/02/25-FEATURE-Set-1-Kai-Ryssdal-2-photo-credit-Marketplace.jpg
END:VEVENT
BEGIN:VEVENT
DTSTART;TZID=America/Los_Angeles:20240225T080000
DTEND;TZID=America/Los_Angeles:20240225T170000
DTSTAMP:20260423T131901
CREATED:20240226T034416Z
LAST-MODIFIED:20250207T194033Z
UID:28864-1708848000-1708880400@www.srsymphony.org
SUMMARY:Bernstein & Brahms
DESCRIPTION:Concert Conversations with Francesco Lecce-Chong\n\n\n\nConcert Conversations are general seating and free to Classical Series concert ticket holders. Approximately 30 minutes in Weill Hall. \n\n\n\n\nSaturday\, February 22\, 2025 at 6:30 pm\n\n\n\nSunday\, February 23\, 2025 at 2:00 pm\n\n\n\nMonday\, February 24\, 2025 at 6:30 pm\n\n\n\n\nTickets\n\n\n\nYouths 7-17 years of age may receive one complimentary ticket with every paid adult. Request tickets through Patron Services at (707) 546-8742. Classical Series concerts only. \n\n\n\n$10 student rush tickets for college students with a valid student ID. Available starting 1-1/2 hours prior to the concert\, at the door only. Classical Series concerts only. \n\n\n\nSpotify Playlist\n\n\n\n\n\n\n\nPlan Your Visit\n\n\n\n              \n               \n               \n                    \n                        \n							                            														\n							\n\n    Program Notes                            \n                            							                            														\n							\n\n    Learn about Discovery Rehearsal                            \n                            							                            														\n							\n\n    Directions & More                            \n                            							                            														\n							\n\n    Seating Map                            \n                            							                            														\n							\n\n    Before the Concert                            \n                            							                            														\n							\n\n    At the Concert                            \n                            							                            														\n							\n\n    Dining & Hotels                            \n                            							                        \n                    \n            \n              \n      \n\n\n\n\n\n\n\nWe gratefully acknowledge the generous contributions from the following:\n\n\n\nClassical Series underwritten by Anderman Family Foundation Sponsored by The Dorothea Rowena Lyman FundConductor Francesco Lecce-Chong sponsored by David & Corinne ByrdJoyce Yang sponsored by Sandra JordanDiscovery Rehearsal Series sponsored by The Stare Foundation and David Stare of Dry Creek VineyardPre-concert talk sponsored by Jamei Haswell & Mack SchwingSeason Media Sponsor: The Press Democrat \n\n\n\n\n\n\n\nPrograms\, dates\, artists\, and prices are subject to change without notice. Tickets are subject to availability.\n\n\n\n\n\n\n\nPhoto by KT Kim
URL:https://www.srsymphony.org/event/bernstein-brahms/
CATEGORIES:Classical Series
ATTACH;FMTTYPE=image/jpeg:https://www.srsymphony.org/wp-content/uploads/2024/02/FEATURE-Joyce-Yang-600x400-Photo-by-KT-Kim.jpg
END:VEVENT
BEGIN:VEVENT
DTSTART;TZID=America/Los_Angeles:20240225T080000
DTEND;TZID=America/Los_Angeles:20240225T170000
DTSTAMP:20260423T131901
CREATED:20240226T041740Z
LAST-MODIFIED:20250324T220526Z
UID:28877-1708848000-1708880400@www.srsymphony.org
SUMMARY:A New World
DESCRIPTION:Concert Conversations with Yue Bao\n\n\n\nConcert Conversations are general seating and free to Classical Series concert ticket holders. Approximately 30 minutes in Weill Hall. \n\n\n\n\nSaturday\, March 22\, 2025 at 6:30 pm\n\n\n\nSunday\, March 23\, 2025 at 2:00 pm\n\n\n\nMonday\, March 24\, 2025 at 6:30 pm\n\n\n\n\nTickets\n\n\n\nClick here to purchase tickets for Monday\, March 24\, 2025\, at 7:30 pm. \n\n\n\nYouths 7-17 years of age may receive one complimentary ticket with every paid adult. Request tickets through Patron Services at (707) 546-8742. Classical Series concerts only. \n\n\n\n$10 student rush tickets for college students with a valid student ID. Available starting 1-1/2 hours prior to the concert\, at the door only. Classical Series concerts only. \n\n\n\nSpotify Playlists\n\n\n\n\n\n\n\nPlan Your Visit\n\n\n\n              \n               \n               \n                    \n                        \n							                            														\n							\n\n    Program Notes                            \n                            							                            														\n							\n\n    Learn about Discovery Rehearsals                            \n                            							                            														\n							\n\n    Directions & More                            \n                            							                            														\n							\n\n    Seating Map                            \n                            							                            														\n							\n\n    Before the Concert                            \n                            							                            														\n							\n\n    At the Concert                            \n                            							                            														\n							\n\n    Dining & More                            \n                            							                        \n                    \n            \n              \n      \n\n\n\n\n\n\n\nWe gratefully acknowledge the generous contributions from the following:\n\n\n\nClassical Series underwritten by Anderman Family FoundationSponsored by Susan and Bruce Dzieza and Marsha Vas Dupre and Jack DupreSimone Porter sponsored by Vic and Karen Trione\, in memory of Henry TrioneMendelssohn: Concerto for Violin and Orchestra sponsored by The E. Nakamichi FoundationDiscovery Rehearsal Series sponsored by The Stare Foundation and David Stare of Dry Creek VineyardPre-concert talk sponsored by Jamei Haswell and Mack SchwingSeason Media Sponsor: The Press Democrat \n\n\n\n\n\n\n\nPrograms\, dates\, artists\, and prices are subject to change without notice. Tickets are subject to availability.\n\n\n\n\n\n\n\nPhoto by Elisha Knight
URL:https://www.srsymphony.org/event/a-new-world/
CATEGORIES:Classical Series
ATTACH;FMTTYPE=image/jpeg:https://www.srsymphony.org/wp-content/uploads/2024/02/25-FEATURE-Set-6-Simone-Porter.jpg
END:VEVENT
END:VCALENDAR