BEGIN:VCALENDAR
VERSION:2.0
PRODID:-//Santa Rosa Symphony - ECPv6.15.18//NONSGML v1.0//EN
CALSCALE:GREGORIAN
METHOD:PUBLISH
X-ORIGINAL-URL:https://www.srsymphony.org
X-WR-CALDESC:Events for Santa Rosa Symphony
REFRESH-INTERVAL;VALUE=DURATION:PT1H
X-Robots-Tag:noindex
X-PUBLISHED-TTL:PT1H
BEGIN:VTIMEZONE
TZID:America/Los_Angeles
BEGIN:DAYLIGHT
TZOFFSETFROM:-0800
TZOFFSETTO:-0700
TZNAME:PDT
DTSTART:20230312T100000
END:DAYLIGHT
BEGIN:STANDARD
TZOFFSETFROM:-0700
TZOFFSETTO:-0800
TZNAME:PST
DTSTART:20231105T090000
END:STANDARD
BEGIN:DAYLIGHT
TZOFFSETFROM:-0800
TZOFFSETTO:-0700
TZNAME:PDT
DTSTART:20240310T100000
END:DAYLIGHT
BEGIN:STANDARD
TZOFFSETFROM:-0700
TZOFFSETTO:-0800
TZNAME:PST
DTSTART:20241103T090000
END:STANDARD
BEGIN:DAYLIGHT
TZOFFSETFROM:-0800
TZOFFSETTO:-0700
TZNAME:PDT
DTSTART:20250309T100000
END:DAYLIGHT
BEGIN:STANDARD
TZOFFSETFROM:-0700
TZOFFSETTO:-0800
TZNAME:PST
DTSTART:20251102T090000
END:STANDARD
END:VTIMEZONE
BEGIN:VEVENT
DTSTART;TZID=America/Los_Angeles:20240226T080000
DTEND;TZID=America/Los_Angeles:20240226T170000
DTSTAMP:20260423T113151
CREATED:20240226T183222Z
LAST-MODIFIED:20250429T183137Z
UID:28908-1708934400-1708966800@www.srsymphony.org
SUMMARY:The Planets
DESCRIPTION:Concert Conversations with Francesco Lecce-Chong\n\n\n\nConcert Conversations are general seating and free to Classical Series concert ticket holders. Approximately 30 minutes in Weill Hall. \n\n\n\n\nSaturday\, May 3\, 2025 at 6:30 pm\n\n\n\nSunday\, May 4\, 2025 at 2:00 pm\n\n\n\nMonday\, May 5\, 2025 at 6:30 pm\n\n\n\n\nTickets\n\n\n\nYouths 7-17 years of age may receive one complimentary ticket with every paid adult. Request tickets through Patron Services at (707) 546-8742. Classical Series concerts only. \n\n\n\n$10 student rush tickets for college students with a valid student ID. Available starting 1-1/2 hours prior to the concert\, at the door only. Classical Series concerts only. \n\n\n\nPainted Violins\n\n\n\nA fundraiser for the Santa Rosa Symphony Youth Orchestra Tour to Germany & The NetherlandsIn June 2025 sixty young musicians will perform in Berlin\, Leipzig\, Essen\, and Amsterdam\, sharing their music with local audiences and collaborating with European students. To support the tour\, we’re hosting a special fundraising event\, “Painted Violins” during all three Classical Series performances of The Planets (May 3\, 4 & 5\, 2025) at Weill Hall\, Green Music Center. \n\n\n\nEighteen Sonoma County artists have transformed stringed instruments into unique works of art. These pieces will be displayed (six per performance) for a silent auction\, with bidding taking place before the concert and during intermission. Bidding closes after intermission\, and winners will be announced immediately after the concert. \n\n\n\nBidders must be present and prepared to pay for and take possession of the art at the end of the performance. Your winning bid is a fully tax-deductible donation. \n\n\n\nProceeds from the silent auction will help us reach our final fundraising goal of $100\,000 for the Santa Rosa Symphony Youth Orchestra’s tour of Germany & The Netherlands. \n\n\n\n\nSee the Violins!\n\n\n\n\nSpotify Playlist\n\n\n\n\n\n\n\nPlan Your Visit\n\n\n\n              \n               \n               \n                    \n                        \n							                            														\n							\n\n    Program Notes                            \n                            							                            														\n							\n\n    Learn about Discovery Rehearsal                            \n                            							                            														\n							\n\n    Directions & More                            \n                            							                            														\n							\n\n    Seating Map                            \n                            							                            														\n							\n\n    Before the Concert                            \n                            							                            														\n							\n\n    At the Concert                            \n                            							                            														\n							\n\n    Dining & Hotels                            \n                            							                        \n                    \n            \n              \n      \n\n\n\n\n\n\n\nWe gratefully acknowledge the generous contributions from the following:\n\n\n\nClassical Series underwritten by Anderman Family FoundationSponsored by The Peggy Anne Covington FundConductor Francesco Lecce-Chong sponsored by David & Corinne ByrdOrion Weiss sponsored by Sara & Edward KozelYoung Women’s Chorus of San Francisco sponsored by Linda & David HanesDiscovery Rehearsal Series sponsored by The Stare Foundation and David Stare of Dry Creek VineyardPre-concert talk sponsored by Jamei Haswell & Mack SchwingSeason Media Sponsor: The Press Democrat \n\n\n\n\n\n\n\nPrograms\, dates\, artists\, and prices are subject to change without notice. Tickets are subject to availability.\n\n\n\n\n\n\n\nPhoto by Lisa-Marie Mazzucco
URL:https://www.srsymphony.org/event/the-planets/
CATEGORIES:Classical Series
ATTACH;FMTTYPE=image/jpeg:https://www.srsymphony.org/wp-content/uploads/2024/02/25-FEATURE-Set-7-Orion-Weiss.jpg
END:VEVENT
END:VCALENDAR