BEGIN:VCALENDAR
VERSION:2.0
PRODID:-//Santa Rosa Symphony - ECPv6.15.18//NONSGML v1.0//EN
CALSCALE:GREGORIAN
METHOD:PUBLISH
X-WR-CALNAME:Santa Rosa Symphony
X-ORIGINAL-URL:https://www.srsymphony.org
X-WR-CALDESC:Events for Santa Rosa Symphony
REFRESH-INTERVAL;VALUE=DURATION:PT1H
X-Robots-Tag:noindex
X-PUBLISHED-TTL:PT1H
BEGIN:VTIMEZONE
TZID:America/Los_Angeles
BEGIN:DAYLIGHT
TZOFFSETFROM:-0800
TZOFFSETTO:-0700
TZNAME:PDT
DTSTART:20240310T100000
END:DAYLIGHT
BEGIN:STANDARD
TZOFFSETFROM:-0700
TZOFFSETTO:-0800
TZNAME:PST
DTSTART:20241103T090000
END:STANDARD
BEGIN:DAYLIGHT
TZOFFSETFROM:-0800
TZOFFSETTO:-0700
TZNAME:PDT
DTSTART:20250309T100000
END:DAYLIGHT
BEGIN:STANDARD
TZOFFSETFROM:-0700
TZOFFSETTO:-0800
TZNAME:PST
DTSTART:20251102T090000
END:STANDARD
BEGIN:DAYLIGHT
TZOFFSETFROM:-0800
TZOFFSETTO:-0700
TZNAME:PDT
DTSTART:20260308T100000
END:DAYLIGHT
BEGIN:STANDARD
TZOFFSETFROM:-0700
TZOFFSETTO:-0800
TZNAME:PST
DTSTART:20261101T090000
END:STANDARD
BEGIN:DAYLIGHT
TZOFFSETFROM:-0800
TZOFFSETTO:-0700
TZNAME:PDT
DTSTART:20270314T100000
END:DAYLIGHT
BEGIN:STANDARD
TZOFFSETFROM:-0700
TZOFFSETTO:-0800
TZNAME:PST
DTSTART:20271107T090000
END:STANDARD
END:VTIMEZONE
BEGIN:VEVENT
DTSTART;TZID=America/Los_Angeles:20250214T080000
DTEND;TZID=America/Los_Angeles:20250214T170000
DTSTAMP:20260423T150638
CREATED:20250228T055042Z
LAST-MODIFIED:20260319T175310Z
UID:33690-1739520000-1739552400@www.srsymphony.org
SUMMARY:Rossini & Schubert
DESCRIPTION:Concert Conversations with Francesco Lecce-Chong\n\n\n\nConcert Conversations are general seating and free to Classical Series concert ticket holders. Approximately 30 minutes in Weill Hall. \n\n\n\n\nSaturday\, March 21\, 2026 at 6:30 pm\n\n\n\nSunday\, March 22\, 2026 at 2:00 pm\n\n\n\nMonday\, March 23\, 2026 at 6:30 pm\n\n\n\n\nTickets\n\n\n\n$10 student rush tickets for college students with a valid student ID. Available starting 1-1/2 hours prior to the concert\, at the door only. Classical Series concerts only. \n\n\n\nYouths 7-17 years of age may receive one complimentary ticket with every paid adult. Request tickets through Patron Services at (707) 546-8742. Classical Series concerts only. \n\n\n\nListen to the concert’s music on Spotify\n\n\n\n\n\n\n\nPlan Your Visit\n\n\n\n              \n               \n               \n                    \n                        \n							                            														\n							\n\n    Program Notes                            \n                            							                            														\n							\n\n    Learn about Discovery Rehearsal                            \n                            							                            														\n							\n\n    Seating Map                            \n                            							                            														\n							\n\n    Directions & More                            \n                            							                            														\n							\n\n    Before the Concert                            \n                            							                            														\n							\n\n    After the Concert                            \n                            							                        \n                    \n            \n              \n      \n\n\n\nWe gratefully acknowledge the generous contributions from the following:\n\n\n\nClassical Series underwritten by Anderman Family FoundationSponsored by Susan & Bruce Dzieza and Willow Creek Wealth ManagementCoping Cadences sponsored by a grant from the National Endowment for the ArtsConductor Francesco Lecce-Chong sponsored by David & Corinne ByrdComposer Shuying Li sponsored by Garth BixlerElizabeth Prior sponsored by Robert Gleeson & Mike SullivanRoy Zajac sponsored by Marsha Vas Dupre & Jack DupreRobert Giambruno sponsored by Joanne EnemarkBruce Chrisp sponsored in loving memory of Dennis M. Kuba by the Dennis Kuba and Rosanne Arthur TrustAllen Biggs sponsored by Nancy RichardsAdelle-Akiko Kearns sponsored by Bryan Coryell & Bruce ScharffDiscovery Rehearsal Series sponsored by The Stare Foundation and Lee & Dave Stare of Dry Creek VineyardPre-Concert Talk sponsored by Jamei Haswell & Mack SchwingSeason Media Sponsor: The Press Democrat      \n\n\n\n\n\n\n\n\n\n\n\nPrograms\, dates\, artists\, and prices are subject to change without notice. Tickets are subject to availability.\n\n\n\nPhoto by Susan and Neil Silverman Photography
URL:https://www.srsymphony.org/event/rossini-schubert/
CATEGORIES:Classical Series
ATTACH;FMTTYPE=image/jpeg:https://www.srsymphony.org/wp-content/uploads/2024/02/FEATURE-FLC_STN4466-Edit-600x400-Photo-by-Susan-and-Newil-Silverman-Photography.jpg
END:VEVENT
BEGIN:VEVENT
DTSTART;TZID=America/Los_Angeles:20250214T080000
DTEND;TZID=America/Los_Angeles:20250214T170000
DTSTAMP:20260423T150638
CREATED:20250228T055107Z
LAST-MODIFIED:20260410T151035Z
UID:33692-1739520000-1739552400@www.srsymphony.org
SUMMARY:Shakespeare in Music
DESCRIPTION:Concert Conversations with Francesco Lecce-Chong\n\n\n\nConcert Conversations are general seating and free to Classical Series concert ticket holders. Approximately 30 minutes in Weill Hall. \n\n\n\n\nSaturday\, May 2\, 2026 at 6:30 pm\n\n\n\nSunday\, May 3\, 2026 at 2:00 pm\n\n\n\nMonday\, May 4\, 2026 at 6:30 pm\n\n\n\n\nTickets\n\n\n\n$10 student rush tickets for college students with a valid student ID. Available starting 1-1/2 hours prior to the concert\, at the door only. Classical Series concerts only. \n\n\n\nYouths 7-17 years of age may receive one complimentary ticket with every paid adult. Request tickets through Patron Services at (707) 546-8742. Classical Series concerts only. \n\n\n\nListen to the concert’s music on Spotify\n\n\n\n\n\n\n\nPlan Your Visit\n\n\n\n              \n               \n               \n                    \n                        \n							                            														\n							\n\n    Season Tickets                            \n                            							                            														\n							\n\n    Learn about Discovery Rehearsal                            \n                            							                            														\n							\n\n    Seating Map                            \n                            							                            														\n							\n\n    Directions & More                            \n                            							                            														\n							\n\n    Before the Concert                            \n                            							                            														\n							\n\n    After the Concert                            \n                            							                        \n                    \n            \n              \n      \n\n\n\nWe gratefully acknowledge the generous contributions from the following:\n\n\n\nClassical Series underwritten by Anderman Family FoundationSponsored by Jacques & Barbara SchlumbergerConductor Francesco Lecce-Chong sponsored by David & Corinne ByrdClaire Huangci sponsored by Sara & Edward KozelNicola Vann sponsored by Ellen & Chuck WearPiano Concerto No. 20 in D Minor sponsored by Dr. Larry Schoenrock Endowment FundDiscovery Rehearsal Series sponsored by The Stare Foundation and Lee & Dave Stare of Dry Creek VineyardPre-Concert Talk sponsored by Jamei Haswell & Mack Schwing Season Media Sponsor: The Press Democrat     \n\n\n\n\n\n\n\nPrograms\, dates\, artists\, and prices are subject to change without notice. Tickets are subject to availability.\n\n\n\nPhoto by Jean-Baptiste Millot
URL:https://www.srsymphony.org/event/shakespeare-in-music/
CATEGORIES:Classical Series
ATTACH;FMTTYPE=image/jpeg:https://www.srsymphony.org/wp-content/uploads/2025/02/26-set-7-feature-600x400.jpg
END:VEVENT
BEGIN:VEVENT
DTSTART;TZID=America/Los_Angeles:20260217T080000
DTEND;TZID=America/Los_Angeles:20260217T170000
DTSTAMP:20260423T150638
CREATED:20260306T054707Z
LAST-MODIFIED:20260306T054708Z
UID:36113-1771315200-1771347600@www.srsymphony.org
SUMMARY:Twist of Fate
DESCRIPTION:Concert Conversations with Francesco Lecce-Chong\n\n\n\nConcert Conversations are general seating and free to Classical Series concert ticket holders. Approximately 30 minutes in Weill Hall. \n\n\n\n\nSaturday\, October 10\, 2026 at 6:30 pm\n\n\n\nSunday\, October 11\, 2026 at 2:00 pm\n\n\n\nMonday\, October 12\, 2026 at 6:30 pm\n\n\n\n\nTickets\n\n\n\n$10 student rush tickets for college students with a valid student ID. Available starting 1-1/2 hours prior to the concert\, at the door only. Classical Series concerts only. \n\n\n\nYouths 7-17 years of age may receive one complimentary ticket with every paid adult. Request tickets through Patron Services at (707) 546-8742. Classical Series concerts only. \n\n\n\n7-Concert Classical Series subscriptions on sale starting March 9\, 2026. To order\, please call Patron Services at (707) 546-8742. Subscriptions available online starting May 11\, 2026. \n\n\n\nPlan Your Visit\n\n\n\n              \n               \n               \n                    \n                        \n							                            														\n							\n\n    Season Tickets                            \n                            							                            														\n							\n\n    Learn About Discovery Rehearsals                            \n                            							                            														\n							\n\n    Seating Map                            \n                            							                            														\n							\n\n    Directions & More                            \n                            							                            														\n							\n\n    Before the Concert                            \n                            							                            														\n							\n\n    After the Concert                            \n                            							                        \n                    \n            \n              \n      \n\n\n\nWe gratefully acknowledge the generous contributions from the following:\n\n\n\nClassical Series underwritten by Anderman Family Foundation \n\n\n\n\n\n\n\nPrograms\, dates\, artists\, and prices are subject to change without notice. Tickets are subject to availability.\n\n\n\nPhoto by Chris McGuire
URL:https://www.srsymphony.org/event/twist-of-fate/
CATEGORIES:Classical Series
ATTACH;FMTTYPE=image/jpeg:https://www.srsymphony.org/wp-content/uploads/2026/02/27-set-1-maxim-lando-photo-by-chris-mcguire-600x400.jpg
END:VEVENT
BEGIN:VEVENT
DTSTART;TZID=America/Los_Angeles:20260225T080000
DTEND;TZID=America/Los_Angeles:20260225T170000
DTSTAMP:20260423T150638
CREATED:20260306T054735Z
LAST-MODIFIED:20260306T054736Z
UID:36347-1772006400-1772038800@www.srsymphony.org
SUMMARY:Echoes of Innocence
DESCRIPTION:Concert Conversations with Francesco Lecce-Chong\n\n\n\nConcert Conversations are general seating and free to Classical Series concert ticket holders. Approximately 30 minutes in Weill Hall. \n\n\n\n\nSaturday\, November 14\, 2026 at 6:30 pm\n\n\n\nSunday\, November 15\, 2026 at 2:00 pm\n\n\n\nMonday\, November 16\, 2026 at 6:30 pm\n\n\n\n\nTickets\n\n\n\n$10 student rush tickets for college students with a valid student ID. Available starting 1-1/2 hours prior to the concert\, at the door only. Classical Series concerts only. \n\n\n\nYouths 7-17 years of age may receive one complimentary ticket with every paid adult. Request tickets through Patron Services at (707) 546-8742. Classical Series concerts only. \n\n\n\n7-Concert Classical Series subscriptions on sale starting March 9\, 2026. To order\, please call Patron Services at (707) 546-8742. Subscriptions available online starting May 11\, 2026. \n\n\n\nPlan Your Visit\n\n\n\n\n              \n               \n               \n                    \n                        \n							                            														\n							\n\n    Season Tickets                            \n                            							                            														\n							\n\n    Learn About Discovery Rehearsals                            \n                            							                            														\n							\n\n    Seating Map                            \n                            							                            														\n							\n\n    Directions & More                            \n                            							                            														\n							\n\n    Before the Concert                            \n                            							                            														\n							\n\n    After the Concert                            \n                            							                        \n                    \n            \n              \n      \n\n\n\n\nWe gratefully acknowledge the generous contributions from the following:\n\n\n\nClassical Series underwritten by Anderman Family Foundation \n\n\n\n\n\n\n\nPrograms\, dates\, artists\, and prices are subject to change without notice. Tickets are subject to availability. \n\n\n\nPhoto by Todd Rosenberg & Shervin Lainez
URL:https://www.srsymphony.org/event/echoes-of-innocence/
CATEGORIES:Classical Series
ATTACH;FMTTYPE=image/jpeg:https://www.srsymphony.org/wp-content/uploads/2026/02/27-set-2-photos-by-todd-rosenberg-shervin-lainez-600x400.jpg
END:VEVENT
BEGIN:VEVENT
DTSTART;TZID=America/Los_Angeles:20260225T080000
DTEND;TZID=America/Los_Angeles:20260225T170000
DTSTAMP:20260423T150638
CREATED:20260306T054758Z
LAST-MODIFIED:20260306T054759Z
UID:36355-1772006400-1772038800@www.srsymphony.org
SUMMARY:Beethoven & Dvořák
DESCRIPTION:Concert Conversations with David Danzmayr\, guest conductor\n\n\n\nConcert Conversations are general seating and free to Classical Series concert ticket holders. Approximately 30 minutes in Weill Hall. \n\n\n\n\nSaturday\, January 9\, 2027 at 6:30 pm\n\n\n\nSunday\, January 10\, 2027 at 2:00 pm\n\n\n\nMonday\, January 11\, 2027 at 6:30 pm\n\n\n\n\nTickets\n\n\n\n$10 student rush tickets for college students with a valid student ID. Available starting 1-1/2 hours prior to the concert\, at the door only. Classical Series concerts only. \n\n\n\nYouths 7-17 years of age may receive one complimentary ticket with every paid adult. Request tickets through Patron Services at (707) 546-8742. Classical Series concerts only. \n\n\n\n7-Concert Classical Series subscriptions on sale starting March 9\, 2026. To order\, please call Patron Services at (707) 546-8742. Subscriptions available online starting May 11\, 2026. \n\n\n\nPlan Your Visit\n\n\n\n              \n               \n               \n                    \n                        \n							                            														\n							\n\n    Season Tickets                            \n                            							                            														\n							\n\n    Learn About Discovery Rehearsals                            \n                            							                            														\n							\n\n    Seating Map                            \n                            							                            														\n							\n\n    Directions & More                            \n                            							                            														\n							\n\n    Before the Concert                            \n                            							                            														\n							\n\n    After the Concert                            \n                            							                        \n                    \n            \n              \n      \n\n\n\nWe gratefully acknowledge the generous contributions from the following:\n\n\n\nClassical Series underwritten by Anderman Family Foundation \n\n\n\n\n\n\n\nPrograms\, dates\, artists\, and prices are subject to change without notice. Tickets are subject to availability. \n\n\n\nPhoto of David Danzmayr by Rick Buchanan
URL:https://www.srsymphony.org/event/beethoven-dvorak/
CATEGORIES:Classical Series
ATTACH;FMTTYPE=image/jpeg:https://www.srsymphony.org/wp-content/uploads/2026/02/27-set-3-janice-carissa-600x400.jpg
END:VEVENT
BEGIN:VEVENT
DTSTART;TZID=America/Los_Angeles:20260304T080000
DTEND;TZID=America/Los_Angeles:20260304T170000
DTSTAMP:20260423T150638
CREATED:20260306T054829Z
LAST-MODIFIED:20260306T054831Z
UID:36431-1772611200-1772643600@www.srsymphony.org
SUMMARY:Of Myths & Masters
DESCRIPTION:Concert Conversations with Francesco Lecce-Chong\n\n\n\nConcert Conversations are general seating and free to Classical Series concert ticket holders. Approximately 30 minutes in Weill Hall. \n\n\n\n\nSaturday\, February 06\, 2027 at 6:30 pm\n\n\n\nSunday\, February 07\, 2027 at 2:00 pm\n\n\n\nMonday\, February 08\, 2027 at 6:30 pm\n\n\n\n\nTickets\n\n\n\n$10 student rush tickets for college students with a valid student ID. Available starting 1-1/2 hours prior to the concert\, at the door only. Classical Series concerts only. \n\n\n\nYouths 7-17 years of age may receive one complimentary ticket with every paid adult. Request tickets through Patron Services at (707) 546-8742. Classical Series concerts only. \n\n\n\n7-Concert Classical Series subscriptions on sale starting March 9\, 2026. To order\, please call Patron Services at (707) 546-8742. Subscriptions available online starting May 11\, 2026. \n\n\n\n\n\n\n\nPlan Your Visit\n\n\n\n              \n               \n               \n                    \n                        \n							                            														\n							\n\n    Season Tickets                            \n                            							                            														\n							\n\n    Learn About Discovery Rehearsals                            \n                            							                            														\n							\n\n    Seating Map                            \n                            							                            														\n							\n\n    Directions & More                            \n                            							                            														\n							\n\n    Before the Concert                            \n                            							                            														\n							\n\n    After the Concert                            \n                            							                        \n                    \n            \n              \n      \n\n\n\nWe gratefully acknowledge the generous contributions from the following:\n\n\n\nClassical Series underwritten by Anderman Family Foundation \n\n\n\n\n\n\n\nPrograms\, dates\, artists\, and prices are subject to change without notice. Tickets are subject to availability.\n\n\n\nPhoto by Tatiana Lumiere Photography
URL:https://www.srsymphony.org/event/of-myths-masters/
CATEGORIES:Classical Series
ATTACH;FMTTYPE=image/jpeg:https://www.srsymphony.org/wp-content/uploads/2026/02/27-set-4-mio-imai-photo-by-tatiana-lumiere-photography-600x400.jpg
END:VEVENT
BEGIN:VEVENT
DTSTART;TZID=America/Los_Angeles:20260304T080000
DTEND;TZID=America/Los_Angeles:20260304T170000
DTSTAMP:20260423T150638
CREATED:20260306T054853Z
LAST-MODIFIED:20260306T054854Z
UID:36437-1772611200-1772643600@www.srsymphony.org
SUMMARY:Mozart & Brahms
DESCRIPTION:Concert Conversations with Francesco Lecce-Chong\n\n\n\nConcert Conversations are general seating and free to Classical Series concert ticket holders. Approximately 30 minutes in Weill Hall. \n\n\n\n\nSaturday\, March 13\, 2027 at 6:30 pm\n\n\n\nSunday\, March 14\, 2027 at 2:00 pm\n\n\n\nMonday\, March 15\, 2027 at 6:30 pm\n\n\n\n\nTickets\n\n\n\n$10 student rush tickets for college students with a valid student ID. Available starting 1-1/2 hours prior to the concert\, at the door only. Classical Series concerts only. \n\n\n\nYouths 7-17 years of age may receive one complimentary ticket with every paid adult. Request tickets through Patron Services at (707) 546-8742. Classical Series concerts only. \n\n\n\n7-Concert Classical Series subscriptions on sale starting March 9\, 2026. To order\, please call Patron Services at (707) 546-8742. Subscriptions available online starting May 11\, 2026. \n\n\n\n\n\n\n\nPlan Your Visit\n\n\n\n              \n               \n               \n                    \n                        \n							                            														\n							\n\n    Season Tickets                            \n                            							                            														\n							\n\n    Learn About Discovery Rehearsals                            \n                            							                            														\n							\n\n    Seating Map                            \n                            							                            														\n							\n\n    Directions & More                            \n                            							                            														\n							\n\n    Before the Concert                            \n                            							                            														\n							\n\n    After the Concert                            \n                            							                        \n                    \n            \n              \n      \n\n\n\nWe gratefully acknowledge the generous contributions from the following:\n\n\n\nClassical Series underwritten by Anderman Family Foundation \n\n\n\n\n\n\n\nPrograms\, dates\, artists\, and prices are subject to change without notice. Tickets are subject to availability.\n\n\n\nPhoto by Sven Arnstein
URL:https://www.srsymphony.org/event/mozart-brahms/
CATEGORIES:Classical Series
ATTACH;FMTTYPE=image/jpeg:https://www.srsymphony.org/wp-content/uploads/2026/02/27-set-5-marc-andre-hamelin-photo-by-sven-arnstein-600x400.jpg
END:VEVENT
BEGIN:VEVENT
DTSTART;TZID=America/Los_Angeles:20260304T080000
DTEND;TZID=America/Los_Angeles:20260304T170000
DTSTAMP:20260423T150638
CREATED:20260306T054920Z
LAST-MODIFIED:20260306T054922Z
UID:36443-1772611200-1772643600@www.srsymphony.org
SUMMARY:Carmina Burana
DESCRIPTION:Concert Conversations with Francesco Lecce-Chong\n\n\n\nConcert Conversations are general seating and free to Classical Series concert ticket holders. Approximately 30 minutes in Weill Hall. \n\n\n\n\nSaturday\, April 10\, 2027 at 6:30 pm\n\n\n\nSunday\, April 11\, 2027 at 2:00 pm\n\n\n\nMonday\, April 12\, 2027 at 6:30 pm\n\n\n\n\nTickets\n\n\n\n$10 student rush tickets for college students with a valid student ID. Available starting 1-1/2 hours prior to the concert\, at the door only. Classical Series concerts only. \n\n\n\nYouths 7-17 years of age may receive one complimentary ticket with every paid adult. Request tickets through Patron Services at (707) 546-8742. Classical Series concerts only. \n\n\n\n7-Concert Classical Series subscriptions on sale starting March 9\, 2026. To order\, please call Patron Services at (707) 546-8742. Subscriptions available online starting May 11\, 2026. \n\n\n\n\n\n\n\nPlan Your Visit\n\n\n\n              \n               \n               \n                    \n                        \n							                            														\n							\n\n    Season Tickets                            \n                            							                            														\n							\n\n    Learn About Discovery Rehearsals                            \n                            							                            														\n							\n\n    Seating Map                            \n                            							                            														\n							\n\n    Directions & More                            \n                            							                            														\n							\n\n    Before the Concert                            \n                            							                            														\n							\n\n    After the Concert                            \n                            							                        \n                    \n            \n              \n      \n\n\n\nWe gratefully acknowledge the generous contributions from the following:\n\n\n\nClassical Series underwritten by Anderman Family Foundation \n\n\n\n\n\n\n\nPrograms\, dates\, artists\, and prices are subject to change without notice. Tickets are subject to availability.\n\n\n\nPhoto by Anna Azarov and Jiyang Chen
URL:https://www.srsymphony.org/event/carmina-burana/
CATEGORIES:Classical Series
ATTACH;FMTTYPE=image/jpeg:https://www.srsymphony.org/wp-content/uploads/2026/02/27-set-6-photos-by-anna-ararov-and-jiyang-chen-600x400.jpg
END:VEVENT
BEGIN:VEVENT
DTSTART;TZID=America/Los_Angeles:20260304T080000
DTEND;TZID=America/Los_Angeles:20260304T170000
DTSTAMP:20260423T150638
CREATED:20260306T054944Z
LAST-MODIFIED:20260306T061316Z
UID:36449-1772611200-1772643600@www.srsymphony.org
SUMMARY:Pictures at an Exhibition
DESCRIPTION:Concert Conversations with Francesco Lecce-Chong\n\n\n\nConcert Conversations are general seating and free to Classical Series concert ticket holders. Approximately 30 minutes in Weill Hall. \n\n\n\n\nSaturday\, May 8\, 2027 at 6:30 pm\n\n\n\nSunday\, May 9\, 2027 at 2:00 pm\n\n\n\nMonday\, May 10\, 2027 at 6:30 pm\n\n\n\n\nTickets\n\n\n\n$10 student rush tickets for college students with a valid student ID. Available starting 1-1/2 hours prior to the concert\, at the door only. Classical Series concerts only. \n\n\n\nYouths 7-17 years of age may receive one complimentary ticket with every paid adult. Request tickets through Patron Services at (707) 546-8742. Classical Series concerts only. \n\n\n\n7-Concert Classical Series subscriptions on sale starting March 9\, 2026. To order\, please call Patron Services at (707) 546-8742. Subscriptions available online starting May 11\, 2026. \n\n\n\n\n\n\n\nPlan Your Visit\n\n\n\n              \n               \n               \n                    \n                        \n							                            														\n							\n\n    Season Tickets                            \n                            							                            														\n							\n\n    Learn About Discovery Rehearsals                            \n                            							                            														\n							\n\n    Seating Map                            \n                            							                            														\n							\n\n    Directions & More                            \n                            							                            														\n							\n\n    Before the Concert                            \n                            							                            														\n							\n\n    After the Concert                            \n                            							                        \n                    \n            \n              \n      \n\n\n\nWe gratefully acknowledge the generous contributions from the following:\n\n\n\nClassical Series underwritten by Anderman Family Foundation \n\n\n\n\n\n\n\nPrograms\, dates\, artists\, and prices are subject to change without notice. Tickets are subject to availability.\n\n\n\nPhoto by Ivan Bessedin
URL:https://www.srsymphony.org/event/pictures-at-an-exhibition/
CATEGORIES:Classical Series
ATTACH;FMTTYPE=image/jpeg:https://www.srsymphony.org/wp-content/uploads/2026/02/27-set-7-elina-vahala-photo-by-ivan-bessedin-600x400.jpg
END:VEVENT
END:VCALENDAR