BEGIN:VCALENDAR
VERSION:2.0
PRODID:-//Santa Rosa Symphony - ECPv6.15.18//NONSGML v1.0//EN
CALSCALE:GREGORIAN
METHOD:PUBLISH
X-ORIGINAL-URL:https://www.srsymphony.org
X-WR-CALDESC:Events for Santa Rosa Symphony
REFRESH-INTERVAL;VALUE=DURATION:PT1H
X-Robots-Tag:noindex
X-PUBLISHED-TTL:PT1H
BEGIN:VTIMEZONE
TZID:America/Los_Angeles
BEGIN:DAYLIGHT
TZOFFSETFROM:-0800
TZOFFSETTO:-0700
TZNAME:PDT
DTSTART:20230312T100000
END:DAYLIGHT
BEGIN:STANDARD
TZOFFSETFROM:-0700
TZOFFSETTO:-0800
TZNAME:PST
DTSTART:20231105T090000
END:STANDARD
BEGIN:DAYLIGHT
TZOFFSETFROM:-0800
TZOFFSETTO:-0700
TZNAME:PDT
DTSTART:20240310T100000
END:DAYLIGHT
BEGIN:STANDARD
TZOFFSETFROM:-0700
TZOFFSETTO:-0800
TZNAME:PST
DTSTART:20241103T090000
END:STANDARD
BEGIN:DAYLIGHT
TZOFFSETFROM:-0800
TZOFFSETTO:-0700
TZNAME:PDT
DTSTART:20250309T100000
END:DAYLIGHT
BEGIN:STANDARD
TZOFFSETFROM:-0700
TZOFFSETTO:-0800
TZNAME:PST
DTSTART:20251102T090000
END:STANDARD
END:VTIMEZONE
BEGIN:VEVENT
DTSTART;TZID=America/Los_Angeles:20240118T000000
DTEND;TZID=America/Los_Angeles:20240118T000000
DTSTAMP:20260422T171359
CREATED:20190205T000625Z
LAST-MODIFIED:20240119T201553Z
UID:24843-1705536000-1705536000@www.srsymphony.org
SUMMARY:Halloween in January with Harry Potter
DESCRIPTION:About the Concert\n\n\n\nThis interactive concert with storytelling\, music and delightful mayhem will entertain\, engage and educate children of all ages. Audience members will recognize music from Harry Potter and more\, that conjure images of fantastical creatures and magic. \n\n\n\nConcert runtime: approximately 60 minutes. No intermission.  \n\n\n\nPre-concert fun for kids of all ages…Come one hour early to visit our Instrument Petting Zoo and FREE photo booth. \n\n\n\nReplacement tickets for the January 5\, 2020 concert will be mailed on Wednesday\, December 18\, 2019.  \n\n\n\n\n\n\n\nWe gratefully acknowledge the generous contributions from the following:\n\n\n\nFamily Concert Series sponsored by The Alan and Susan Seidenfeld Charitable Trust and Victor and Karen TrioneConcert Supporting Sponsor Donald and Maureen GreenIt’s Elementary Family Series Ticket Sponsor Willow Creek Wealth Management
URL:https://www.srsymphony.org/event/halloween-in-january-with-harry-potter/
CATEGORIES:Family Series
END:VEVENT
BEGIN:VEVENT
DTSTART;TZID=America/Los_Angeles:20240118T000000
DTEND;TZID=America/Los_Angeles:20240118T000000
DTSTAMP:20260422T171359
CREATED:20190205T000808Z
LAST-MODIFIED:20240119T222802Z
UID:24844-1705536000-1705536000@www.srsymphony.org
SUMMARY:Peter and the Wolf
DESCRIPTION:Pre-concert fun for kids of all ages…Come one hour early to visit our Instrument Petting Zoo. \n\n\n\n\n\n\n\nWe gratefully acknowledge the generous contributions from the following:\n\n\n\nFamily Concert Series sponsored by The Alan and Susan Seidenfeld Charitable Trust and Victor and Karen TrioneIt’s Elementary Family Series Ticket Sponsor Willow Creek Wealth Management \n\n\n\n\n\n\n\nInstrument Petting Zoo sponsored by Macy’s \n\n\n\nPlan Your Visit\n\n\n\n              \n               \n               \n                    \n                        \n							                            														\n							\n\n    Learn more about the Discovery Rehearsal Series                            \n                            							                            														\n							\n\n    Directions & More                            \n                            							                            														\n							\n\n    Seating Map                            \n                            							                            														\n							\n\n    Before the Concert                            \n                            							                            														\n							\n\n    At the Concert                            \n                            							                            														\n							\n\n    Dining & Hotels
URL:https://www.srsymphony.org/event/peter-and-the-wolf/
CATEGORIES:Family Series
END:VEVENT
BEGIN:VEVENT
DTSTART;TZID=America/Los_Angeles:20240118T000000
DTEND;TZID=America/Los_Angeles:20240118T000000
DTSTAMP:20260422T171359
CREATED:20210624T230818Z
LAST-MODIFIED:20240209T020052Z
UID:24871-1705536000-1705536000@www.srsymphony.org
SUMMARY:Classical Rocks! - May 1
DESCRIPTION:Thank you to our Community Partner for supporting this concert:\n\n\n\n\n\n\n\nInstrument Petting Zoo\n\n\n\nPre-concert fun for kids of all ages. Come for the FREE Instrument Petting Zoo one hour prior to performances.  \n\n\n\nCovid Protocols for this Concert\n\n\n\nPlease note: COVID-19 protocols are subject to change. \n\n\n\nMasks are optional\, but recommended. \n\n\n\nAdults 18 +:Photo I.D. and one of the following: \n\n\n\n\nProof of vaccination\n\n\n\nNegative COVID PCR test (taken by a laboratory within 72 hours prior to performance). \n\n\n\n\nThe name on the document must match the photo I.D. \n\n\n\nAges 7-17:No requirements. \n\n\n\nPlease stay home if… \n\n\n\n\nYou are sick or have any of the following symptoms: fever\, sore throat\, chills\, cough\, shortness of breath\, congestion\, nausea\, or vomiting.\n\n\n\nYou’ve been in close contact with an individual diagnosed with COVID-19 or exhibiting COVID-19 symptoms within the past 14 days.\n\n\n\nYou’ve been directed to self-isolate or quarantine by a health care provider or public health official.\n\n\n\nYou are awaiting the results of a COVID-19 PCR test.\n\n\n\n\nPlan Your Visit\n\n\n\n              \n               \n               \n                    \n                        \n							                            														\n							\n\n    Learn more about the Discovery Rehearsal Series                            \n                            							                            														\n							\n\n    Directions & More                            \n                            							                            														\n							\n\n    Seating Map                            \n                            							                            														\n							\n\n    Before the Concert                            \n                            							                            														\n							\n\n    At the Concert                            \n                            							                            														\n							\n\n    Dining & Hotels                            \n                            							                        \n                    \n            \n              \n      \n\n\n\n \n\n\n\n\n\n\n\nWe gratefully acknowledge the generous contributions from the following:\n\n\n\nFamily Series sponsored by The Alan and Susan Seidenfeld Charitable Trust and Victor and Karen Trione \n\n\n\n\n\n\n\nPrograms\, dates\, artist\, prices and COVID-19 protocols are subject to change without notice. Tickets are subject to availability.\n\n\n\nThere are no program notes available for this concert.
URL:https://www.srsymphony.org/event/classical-rocks/
CATEGORIES:Family Series
END:VEVENT
BEGIN:VEVENT
DTSTART;TZID=America/Los_Angeles:20240118T000000
DTEND;TZID=America/Los_Angeles:20240118T000000
DTSTAMP:20260422T171359
CREATED:20210624T231047Z
LAST-MODIFIED:20240209T015720Z
UID:24872-1705536000-1705536000@www.srsymphony.org
SUMMARY:Gershwin's Magic Key
DESCRIPTION:This concert has been rescheduled from January 23\, 2022 to June 5\, 2022. If you hold tickets for the January 23 date\, your tickets will automatically be transferred to the new date and will work. No further action needed.  \n\n\n\n\n\n\n\nProgram\n\n\n\nOverture from Catfish Row: Symphonic Suite in Five Parts: ISwanee (Gershwin – Wodehouse)Fugue subject from Catfish Row: Symphonic Suite in Five Parts: II Got Plenty O’Nuttin from Catfish Row: Symphonic Suite in Five Parts: IIStrike Up The Band (Gershwin – MacPherson)Take Me Out to the Ball Game (Norworth and Tilzer)I’ll Build a Stairway to ParadiseNice Work If You Can Get It (Gershwin – Bennett)Period Medley: Oh\, You Beautiful Doll (Ayer) & “Baby Face” (Akst)Rialto Ripples (Gershwin – Tyzik)Humoresque op. 101 no. 7 (DvoÅ™Ã¡k – Trinkaus)Second Rhapsody (New York Rhapsody)Promenade (Gershwin – Berkowitz)An American in ParisSummertime & Bess\, You Is My Woman Now from Catfish Row: Symphonic Suite in Five Parts: I & II Oh Lord\, I’m On My Way from Catfish Row: Symphonic Suite in Five Parts: VConcerto in F: IIIMedley from Oh\, Kay! (Gershwin – Warner)Second Prelude (Blue Lullaby)Cuban OvertureI Got Rhythm (Gershwin – Bennett)Fascinating Rhythm (Gershwin – Warner)Rhapsody in Blue \n\n\n\nMusic by George Gershwin | Lyrics by Ira Gershwin | Created and Directed by Paul Pement Written by Will Martin\, Elizabeth Wheeler and Paul Pement Production Advisor: Kevin Cole | Music Copyist/Engraver: John Blane Lighting Design: Paul Pement | Projections: Scott Fairchild | Music Supervisor: Will Martin Associate Director: Steve Hiltebrand  Costumes: Alex Meadows | Props/Wigs: Kevin Barthel \n\n\n\nInstrument Petting Zoo\n\n\n\nPre-concert fun for kids of all ages. Come for the FREE Instrument Petting Zoo one hour prior to performances. \n\n\n\nThank you to our Community Partner for supporting this concert: \n\n\n\n\n\n\n\n\n\n\n\n \n\n\n\nPlan Your Visit\n\n\n\n              \n               \n               \n                    \n                        \n							                            														\n							\n\n    Learn more about the Discovery Rehearsal Series                            \n                            							                            														\n							\n\n    Directions & More                            \n                            							                            														\n							\n\n    Seating Map                            \n                            							                            														\n							\n\n    Before the Concert                            \n                            							                            														\n							\n\n    At the Concert                            \n                            							                            														\n							\n\n    Dining & Hotels                            \n                            							                        \n                    \n            \n              \n      \n\n\n\nCovid Protocols for Family Concerts at the Green Music Center\n\n\n\nPlease note: COVID-19 protocols are subject to change. \n\n\n\nMasks are optional\, but recommended. \n\n\n\nAdults 18 +:Photo I.D. and one of the following: \n\n\n\n\nProof of vaccination\n\n\n\nNegative COVID PCR test (taken by a laboratory within 72 hours prior to performance). \n\n\n\n\nThe name on the document must match the photo I.D. \n\n\n\nAges 7-17:No requirements. \n\n\n\nPlease stay home if… \n\n\n\n\nYou are sick or have any of the following symptoms: fever\, sore throat\, chills\, cough\, shortness of breath\, congestion\, nausea\, or vomiting.\n\n\n\nYou’ve been in close contact with an individual diagnosed with COVID-19 or exhibiting COVID-19 symptoms within the past 14 days.\n\n\n\nYou’ve been directed to self-isolate or quarantine by a health care provider or public health official.\n\n\n\nYou are awaiting the results of a COVID-19 PCR test.\n\n\n\n\n\n\n\n\nWe gratefully acknowledge the generous contributions from the following: \n\n\n\nFamily Series sponsored by The Alan and Susan Seidenfeld Charitable Trust and Victor and Karen Trione \n\n\n\n\n\n\n\nPrograms\, dates\, artist\, prices and COVID-19 protocols are subject to change without notice. Tickets are subject to availability.\n\n\n\nThere are no program notes available for this concert.
URL:https://www.srsymphony.org/event/gershwins-magic-key/
CATEGORIES:Family Series
END:VEVENT
BEGIN:VEVENT
DTSTART;TZID=America/Los_Angeles:20240118T000000
DTEND;TZID=America/Los_Angeles:20240118T000000
DTSTAMP:20260422T171359
CREATED:20210624T232122Z
LAST-MODIFIED:20240207T184807Z
UID:24873-1705536000-1705536000@www.srsymphony.org
SUMMARY:Francesco at Bat
DESCRIPTION:Instrument Petting Zoo\n\n\n\nPre-concert fun for kids of all ages. Come for the FREE Instrument Petting Zoo one hour prior to performances. \n\n\n\nCovid Protocols for Family Concerts at the Green Music Center\n\n\n\nMasks are no longer required however they are encouraged. \n\n\n\nOne of the following is required for adults 18 years of age and over: \n\n\n\n\nProof of vaccination and photo I.D.\n\n\n\nNegative COVID PCR test (48 hours prior to performance) The test must be conducted by a laboratory. Photo I.D.\n\n\n\n\nThere are no requirements for children 17 years of age and younger. \n\n\n\nPlease stay home if… \n\n\n\n\nYou are sick or have any of the following symptoms: fever\, sore throat\, chills\, cough\, shortness of breath\, congestion\, nausea\, or vomiting.\n\n\n\nYou’ve been in close contact with an individual diagnosed with COVID-19 or exhibiting COVID-19 symptoms within the past 14 days.\n\n\n\nYou’ve been directed to self-isolate or quarantine by a health care provider or public health official.\n\n\n\nYou are awaiting the results of a COVID-19 PCR test.\n\n\n\n\n \n\n\n\nPlan Your Visit\n\n\n\n              \n               \n               \n                    \n                        \n							                            														\n							\n\n    Learn more about the Discovery Rehearsal Series                            \n                            							                            														\n							\n\n    Directions & More                            \n                            							                            														\n							\n\n    Seating Map                            \n                            							                            														\n							\n\n    Before the Concert                            \n                            							                            														\n							\n\n    At the Concert                            \n                            							                            														\n							\n\n    Dining & Hotels                            \n                            							                        \n                    \n            \n              \n      \n\n\n\n  \n\n\n\n\n\n\n\nWe gratefully acknowledge the generous contributions from the following:\n\n\n\nFamily Series sponsored by The Alan and Susan Seidenfeld Charitable Trust and Victor and Karen Trione \n\n\n\n\n\n\n\nPrograms\, dates\, artist\, prices and COVID-19 protocols are subject to change without notice. Tickets are subject to availability.\n\n\n\nThere are no program notes available for this concert.
URL:https://www.srsymphony.org/event/francesco-at-bat/
CATEGORIES:Family Series
END:VEVENT
BEGIN:VEVENT
DTSTART;TZID=America/Los_Angeles:20240118T000000
DTEND;TZID=America/Los_Angeles:20240118T000000
DTSTAMP:20260422T171359
CREATED:20220707T180402Z
LAST-MODIFIED:20240126T180938Z
UID:24901-1705536000-1705536000@www.srsymphony.org
SUMMARY:Beethoven Lives Upstairs
DESCRIPTION:Create precious family memories with an afternoon at the Symphony.\n\n\n\n\nClassical Kids Live!\n\n\n\n\n Instrument Petting Zoo\n\n\n\nPre-concert fun for kids of all ages. Come for the FREE Instrument Petting Zoo one hour prior to performances.  \n\n\n\nTickets\n\n\n\n\nBuy Now!\n\n\n\n\n\n\n\n\nWe gratefully acknowledge the generous contributions from the following:Family Series sponsored by The Alan and Susan Seidenfeld Charitable Trust and Victor and Karen Trione \n\n\n\nPrograms\, dates\, artist and prices are subject to change without notice. Tickets are subject to availability.\n\n\n\nPhoto by Susan and Neil Silverman Photography \n\n\n\nPlan Your Visit\n\n\n\n              \n               \n               \n                    \n                        \n							                            														\n							\n\n    Learn more about the Discovery Rehearsal Series                            \n                            							                            														\n							\n\n    Directions & More                            \n                            							                            														\n							\n\n    Seating Map                            \n                            							                            														\n							\n\n    Before the Concert                            \n                            							                            														\n							\n\n    At the Concert                            \n                            							                            														\n							\n\n    Dining & Hotels
URL:https://www.srsymphony.org/event/beethoven-lives-upstairs/
CATEGORIES:Family Series
END:VEVENT
BEGIN:VEVENT
DTSTART;TZID=America/Los_Angeles:20240118T000000
DTEND;TZID=America/Los_Angeles:20240118T000000
DTSTAMP:20260422T171359
CREATED:20220707T200542Z
LAST-MODIFIED:20240124T164620Z
UID:24902-1705536000-1705536000@www.srsymphony.org
SUMMARY:Becoming Mozart
DESCRIPTION:Create precious family memories with an afternoon at the Symphony.\n\n\n\nInstrument Petting Zoo\n\n\n\nPre-concert fun for kids of all ages. Come for the FREE Instrument Petting Zoo one hour prior to performances. \n\n\n\nTickets\n\n\n\nTickets are $10/youth and $20/adult \n\n\n\n\nBuy Now!\n\n\n\n\n\n\n\n\nWe gratefully acknowledge the generous contributions from the following:Family Series sponsored by The Alan and Susan Seidenfeld Charitable Trust and Victor and Karen Trione \n\n\n\nPrograms\, dates\, artist and prices are subject to change without notice. Tickets are subject to availability.\n\n\n\nPhoto by Susan and Neil Silverman Photography \n\n\n\nPlan Your Visit\n\n\n\n              \n               \n               \n                    \n                        \n							                            														\n							\n\n    Learn more about the Discovery Rehearsal Series                            \n                            							                            														\n							\n\n    Directions & More                            \n                            							                            														\n							\n\n    Seating Map                            \n                            							                            														\n							\n\n    Before the Concert                            \n                            							                            														\n							\n\n    At the Concert                            \n                            							                            														\n							\n\n    Dining & Hotels
URL:https://www.srsymphony.org/event/becoming-mozart/
CATEGORIES:Family Series
END:VEVENT
BEGIN:VEVENT
DTSTART;TZID=America/Los_Angeles:20240118T000000
DTEND;TZID=America/Los_Angeles:20240118T000000
DTSTAMP:20260422T171359
CREATED:20230504T191346Z
LAST-MODIFIED:20240119T212258Z
UID:24919-1705536000-1705536000@www.srsymphony.org
SUMMARY:Carnival of the Animals
DESCRIPTION:Instrument Petting Zoo\n\n\n\nPre-concert fun for kids of all ages. Come for the FREE Instrument Petting Zoo one hour prior to performances. \n\n\n\nTickets\n\n\n\n\nBuy Tickets\n\n\n\n\nSingle tickets prices: $10/youth and $20/adult \n\n\n\nPlan Your Visit\n\n\n\n              \n               \n               \n                    \n                        \n							                            														\n							\n\n    Learn more about the Discovery Rehearsal Series                            \n                            							                            														\n							\n\n    Directions & More                            \n                            							                            														\n							\n\n    Seating Map                            \n                            							                            														\n							\n\n    Before the Concert                            \n                            							                            														\n							\n\n    At the Concert                            \n                            							                            														\n							\n\n    Dining & Hotels                            \n                            							                        \n                    \n            \n              \n      \n\n\n\n\n\n\n\nWe gratefully acknowledge the generous contributions from the following:Family Series underwritten by Victor and Karen Trione\, and Irene Sohm \n\n\n\nPrograms\, dates\, artist and prices are subject to change without notice. Tickets are subject to availability.
URL:https://www.srsymphony.org/event/carnival-of-the-animals/
CATEGORIES:Family Series
END:VEVENT
BEGIN:VEVENT
DTSTART;TZID=America/Los_Angeles:20240118T000000
DTEND;TZID=America/Los_Angeles:20240118T000000
DTSTAMP:20260422T171359
CREATED:20230504T201610Z
LAST-MODIFIED:20240209T174118Z
UID:24920-1705536000-1705536000@www.srsymphony.org
SUMMARY:Charlie Brown Goes to the Symphony
DESCRIPTION:Program\n\n\n\nWolfgang Amadeus Mozart:  Symphony No. 40 in G minor\, K. 550 (Allegro molto)Wolfgang Amadeus Mozart:  Serenade in G major\, K. 525\, Eine kleine Nachtmusik (Allegro)Ludwig van Beethoven: Symphony No. 3 in G major\, K. 525\, Eroica (Finale – Allegro molto)Franz Joseph Haydn:  Symphony No. 94 in G major\, Surprise (Adagio – Vivace assai)Wolfgang Amadeus Mozart:  Symphony No. 35 in C major\, K. 385\, Haffner (Allegro con spirito)Wolfgang Amadeus Mozart:  Symphony No. 41 in C major\, K. 551\, Jupiter (Molto allegro)Ludwig van Beethoven: Symphony No. 7 in A major\, Opus 92 (Allegretto)Ellen Taaffe Zwilich:  Peanuts® Gallery for Piano and OrchestraVince Guaraldi / Robert Longfield\, arranger:  Linus & Lucy  \n\n\n\nInstrument Petting Zoo\n\n\n\nPre-concert fun for kids of all ages. Come for the FREE Instrument Petting Zoo one hour prior to performances. \n\n\n\nTickets\n\n\n\n\nBuy Tickets\n\n\n\n\nSingle tickets prices: $10/youth and $20/adult \n\n\n\nPlan Your Visit\n\n\n\n              \n               \n               \n                    \n                        \n							                            														\n							\n\n    Learn more about the Discovery Rehearsal Series                            \n                            							                            														\n							\n\n    Directions & More                            \n                            							                            														\n							\n\n    Seating Map                            \n                            							                            														\n							\n\n    Before the Concert                            \n                            							                            														\n							\n\n    At the Concert                            \n                            							                            														\n							\n\n    Dining & Hotels                            \n                            							                        \n                    \n            \n              \n      \n\n\n\n\n\n\n\nWe gratefully acknowledge the generous contributions from the following:\n\n\n\nFamily Series underwritten by Victor and Karen Trione\, and Irene SohmCharlie Brown Goes to the Symphony sponsored by Snoopy’s Home Ice \n\n\n\nPrograms\, dates\, artist and prices are subject to change without notice. Tickets are subject to availability.
URL:https://www.srsymphony.org/event/charlie-brown-goes-to-the-symphony/
CATEGORIES:Family Series
ATTACH;FMTTYPE=image/jpeg:https://www.srsymphony.org/wp-content/uploads/2023/05/24-INTERIOR-BANNER-FAM-Charlie-Brown_600.jpg
END:VEVENT
BEGIN:VEVENT
DTSTART;TZID=America/Los_Angeles:20240118T000000
DTEND;TZID=America/Los_Angeles:20240118T000000
DTSTAMP:20260422T171359
CREATED:20230504T203611Z
LAST-MODIFIED:20240402T152653Z
UID:24921-1705536000-1705536000@www.srsymphony.org
SUMMARY:Exploring Beethoven's 5th with FLC!
DESCRIPTION:Instrument Petting Zoo\n\n\n\nPre-concert fun for kids of all ages. Come for the FREE Instrument Petting Zoo one hour prior to performance. \n\n\n\nPost Concert Meet & Greet\n\n\n\nImmediately following the concert\, meet Maestro Francesco Lecce-Chong and Concertmaster\, Joe Edelberg. \n\n\n\nTickets\n\n\n\nAffordable tickets for the whole family: $10/youth and $20/adult \n\n\n\n\n\n\n\n\n\n\n\nWe gratefully acknowledge the generous contributions from the following:\n\n\n\nFamily Series underwritten by Victor and Karen Trione\, and Irene Sohm \n\n\n\n\n\n\n\nPrograms\, dates\, artist and prices are subject to change without notice. Tickets are subject to availability.\n\n\n\n\n\n\n\nPhoto by Susan and Neil Silverman Photography
URL:https://www.srsymphony.org/event/exploring-beethovens-5th-with-flc/
CATEGORIES:Family Series
ATTACH;FMTTYPE=image/jpeg:https://www.srsymphony.org/wp-content/uploads/2023/05/24-FEATURE-FAM-3-Photo-By-Susan-and-Neil-Silverman-Photography.jpg
END:VEVENT
END:VCALENDAR