BEGIN:VCALENDAR
VERSION:2.0
PRODID:-//Santa Rosa Symphony - ECPv6.15.18//NONSGML v1.0//EN
CALSCALE:GREGORIAN
METHOD:PUBLISH
X-WR-CALNAME:Santa Rosa Symphony
X-ORIGINAL-URL:https://www.srsymphony.org
X-WR-CALDESC:Events for Santa Rosa Symphony
REFRESH-INTERVAL;VALUE=DURATION:PT1H
X-Robots-Tag:noindex
X-PUBLISHED-TTL:PT1H
BEGIN:VTIMEZONE
TZID:America/Los_Angeles
BEGIN:DAYLIGHT
TZOFFSETFROM:-0800
TZOFFSETTO:-0700
TZNAME:PDT
DTSTART:20230312T100000
END:DAYLIGHT
BEGIN:STANDARD
TZOFFSETFROM:-0700
TZOFFSETTO:-0800
TZNAME:PST
DTSTART:20231105T090000
END:STANDARD
BEGIN:DAYLIGHT
TZOFFSETFROM:-0800
TZOFFSETTO:-0700
TZNAME:PDT
DTSTART:20240310T100000
END:DAYLIGHT
BEGIN:STANDARD
TZOFFSETFROM:-0700
TZOFFSETTO:-0800
TZNAME:PST
DTSTART:20241103T090000
END:STANDARD
BEGIN:DAYLIGHT
TZOFFSETFROM:-0800
TZOFFSETTO:-0700
TZNAME:PDT
DTSTART:20250309T100000
END:DAYLIGHT
BEGIN:STANDARD
TZOFFSETFROM:-0700
TZOFFSETTO:-0800
TZNAME:PST
DTSTART:20251102T090000
END:STANDARD
BEGIN:DAYLIGHT
TZOFFSETFROM:-0800
TZOFFSETTO:-0700
TZNAME:PDT
DTSTART:20260308T100000
END:DAYLIGHT
BEGIN:STANDARD
TZOFFSETFROM:-0700
TZOFFSETTO:-0800
TZNAME:PST
DTSTART:20261101T090000
END:STANDARD
END:VTIMEZONE
BEGIN:VEVENT
DTSTART;TZID=America/Los_Angeles:20240806T080000
DTEND;TZID=America/Los_Angeles:20240806T170000
DTSTAMP:20260422T205926
CREATED:20240808T150037Z
LAST-MODIFIED:20250102T173209Z
UID:32433-1722931200-1722963600@www.srsymphony.org
SUMMARY:Who Wants to Compose a Symphony?
DESCRIPTION:NEW this Season!\n\n\n\n\nSanta Rosa Symphony Music Director\, Francesco Lecce-Chong conducts all three concerts!\n\n\n\nA new immersive multimedia experience that gives audiences an up-close view of the musicians\, their instruments\, and Maestro Francesco. Projected on a big screen above the orchestra\, concertgoers will see what’s happening on stage wherever they sit.\n\n\n\nSanta Rosa Symphony Youth Orchestra members will perform side-by-side Santa Rosa Symphony musicians on the first piece of each program of all three concerts.\n\n\n\nSnoopy joins Francesco onstage at all three concerts! Listen for his theme music\, “Snoopy Does the Samba” by Ellen Taaffe Zwilich.\n\n\n\nMeet & Greet immediately following each performance with Maestro Francesco and a Symphony musician.\n\n\n\n\nAbout Snoopy Family Concert Series\n\n\n\nInspired by Peanuts creator Charles M. Schulz’s love of classical music and the Santa Rosa Symphony\, Music Director Francesco Lecce-Chong has created a delightful concert experience for the whole family. Join Snoopy and the Santa Rosa Symphony for an unforgettable afternoon of music\, laughter\, and fun. \n\n\n\nTickets\n\n\n\nSingle tickets$20/adult; $10/child (12 and under) \n\n\n\nHow to Purchase Tickets\n\n\n\nPHONE: (707) 546-8742ONLINE: srsymphony.org (online subscriptions and single tickets starting September 16)IN PERSON: 50 Santa Rosa Ave\, First Floor\, Santa Rosa CA \n\n\n\n\n\n\n\nSpecial thanks to the Charles M. Schulz Museum and Research Center and Snoopy’s Home Ice. \n\n\n\n\n\n\n\nWe gratefully acknowledge the generous contributions from the following:\n\n\n\nSnoopy Family Concert Series underwritten by Victor and Karen Trione\, and Irene SohmConductor Francesco Lecce-Chong sponsored by Anonymous \n\n\n\n© Peanuts Worldwide LLC \n\n\n\nPrograms\, dates\, artists\, and prices are subject to change without notice. Tickets are nonrefundable and subject to availability.
URL:https://www.srsymphony.org/event/who-wants-to-compose-a-symphony/
CATEGORIES:Family Series
ATTACH;FMTTYPE=image/jpeg:https://www.srsymphony.org/wp-content/uploads/2024/08/25-FEATURE-Snoopy-Logo-600x400-1.jpg
END:VEVENT
BEGIN:VEVENT
DTSTART;TZID=America/Los_Angeles:20250805T080000
DTEND;TZID=America/Los_Angeles:20250805T170000
DTSTAMP:20260422T205926
CREATED:20250806T191358Z
LAST-MODIFIED:20251016T185210Z
UID:35170-1754380800-1754413200@www.srsymphony.org
SUMMARY:Magical Melodies
DESCRIPTION:About Snoopy Family Concert Series\n\n\n\nInspired by Peanuts creator Charles M. Schulz’s love of classical music and the Santa Rosa Symphony\, Music Director Francesco Lecce-Chong has created a delightful concert experience for the whole family. Join Snoopy and the Santa Rosa Symphony for an unforgettable afternoon of music\, laughter\, and fun. \n\n\n\nTickets\n\n\n\n3-Concert subscription packages$54/adult\, $24/youth (12 and under) \n\n\n\nSingle tickets (available starting September 2\, 2025)$20/adult; $10/youth (12 and under) \n\n\n\nHow to Purchase Tickets\n\n\n\nPHONE: (707) 546-8742ONLINE: srsymphony.org (online subscriptions and single tickets starting September 2)IN PERSON: 50 Santa Rosa Ave\, First Floor\, Santa Rosa CA \n\n\n\n\n\n\n\nWe gratefully acknowledge the generous contributions from the following:\n\n\n\nSnoopy Family Concert Series underwritten by Vic and Karen Trione\, and Irene Sohm.Conductor Francesco Lecce-Chong sponsored by an Anonymous donor. \n\n\n\nSpecial thanks to the Charles M. Schulz Museum and Research Center and Snoopy’s Home Ice. \n\n\n\n© Peanuts Worldwide LLC \n\n\n\nPrograms\, dates\, artists\, and prices are subject to change without notice. Tickets are nonrefundable and subject to availability.
URL:https://www.srsymphony.org/event/magical-melodies/
CATEGORIES:Family Series
ATTACH;FMTTYPE=image/jpeg:https://www.srsymphony.org/wp-content/uploads/2025/08/26-snoopy-family-logo-with-flc-600x400.jpg
END:VEVENT
BEGIN:VEVENT
DTSTART;TZID=America/Los_Angeles:20250805T080000
DTEND;TZID=America/Los_Angeles:20250805T170000
DTSTAMP:20260422T205926
CREATED:20250806T191415Z
LAST-MODIFIED:20260113T185144Z
UID:35185-1754380800-1754413200@www.srsymphony.org
SUMMARY:Detective Snoopy
DESCRIPTION:About Snoopy Family Concert Series\n\n\n\nInspired by Peanuts creator Charles M. Schulz’s love of classical music and the Santa Rosa Symphony\, Music Director Francesco Lecce-Chong has created a delightful concert experience for the whole family. Join Snoopy and the Santa Rosa Symphony for an unforgettable afternoon of music\, laughter\, and fun. \n\n\n\nTickets\n\n\n\n3-Concert subscription packages$54/adult\, $24/youth (12 and under) \n\n\n\nSingle tickets$20/adult; $10/youth (12 and under) \n\n\n\nHow to Purchase Tickets\n\n\n\nPHONE: (707) 546-8742ONLINE: srsymphony.org (online subscriptions and single tickets starting September 2)IN PERSON: 50 Santa Rosa Ave\, First Floor\, Santa Rosa CA \n\n\n\n\n\n\n\n\n\n\n\nWe gratefully acknowledge the generous contributions from the following:\n\n\n\nSnoopy Family Concert Series underwritten by Vic and Karen Trione\, and Irene Sohm.Conductor Francesco Lecce-Chong sponsored by an Anonymous donor. \n\n\n\nSpecial thanks to the Charles M. Schulz Museum and Research Center and Snoopy’s Home Ice. \n\n\n\n© Peanuts Worldwide LLC \n\n\n\nPrograms\, dates\, artists\, and prices are subject to change without notice. Tickets are nonrefundable and subject to availability.
URL:https://www.srsymphony.org/event/detective-snoopy/
CATEGORIES:Family Series
ATTACH;FMTTYPE=image/jpeg:https://www.srsymphony.org/wp-content/uploads/2025/08/26-snoopy-family-logo-with-flc-600x400.jpg
END:VEVENT
BEGIN:VEVENT
DTSTART;TZID=America/Los_Angeles:20250805T080000
DTEND;TZID=America/Los_Angeles:20250805T170000
DTSTAMP:20260422T205926
CREATED:20250806T191431Z
LAST-MODIFIED:20251016T185310Z
UID:35188-1754380800-1754413200@www.srsymphony.org
SUMMARY:Celebrate America!
DESCRIPTION:About Snoopy Family Concert Series\n\n\n\nInspired by Peanuts creator Charles M. Schulz’s love of classical music and the Santa Rosa Symphony\, Music Director Francesco Lecce-Chong has created a delightful concert experience for the whole family. Join Snoopy and the Santa Rosa Symphony for an unforgettable afternoon of music\, laughter\, and fun. \n\n\n\nTickets\n\n\n\n3-Concert subscription packages$54/adult\, $24/youth (12 and under) \n\n\n\nSingle tickets$20/adult; $10/youth (12 and under) \n\n\n\nHow to Purchase Tickets\n\n\n\nPHONE: (707) 546-8742ONLINE: srsymphony.org (online subscriptions and single tickets starting September 2)IN PERSON: 50 Santa Rosa Ave\, First Floor\, Santa Rosa CA \n\n\n\n\n\n\n\nWe gratefully acknowledge the generous contributions from the following:\n\n\n\nSnoopy Family Concert Series underwritten by Vic and Karen Trione\, and Irene Sohm.Conductor Francesco Lecce-Chong sponsored by an Anonymous donor. \n\n\n\nSpecial thanks to the Charles M. Schulz Museum and Research Center and Snoopy’s Home Ice. \n\n\n\n© Peanuts Worldwide LLC \n\n\n\nPrograms\, dates\, artists\, and prices are subject to change without notice. Tickets are nonrefundable and subject to availability.
URL:https://www.srsymphony.org/event/celebrate-america/
CATEGORIES:Family Series
ATTACH;FMTTYPE=image/jpeg:https://www.srsymphony.org/wp-content/uploads/2025/08/26-snoopy-family-logo-with-flc-600x400.jpg
END:VEVENT
END:VCALENDAR