BEGIN:VCALENDAR
VERSION:2.0
PRODID:-//Santa Rosa Symphony - ECPv6.15.18//NONSGML v1.0//EN
CALSCALE:GREGORIAN
METHOD:PUBLISH
X-WR-CALNAME:Santa Rosa Symphony
X-ORIGINAL-URL:https://www.srsymphony.org
X-WR-CALDESC:Events for Santa Rosa Symphony
REFRESH-INTERVAL;VALUE=DURATION:PT1H
X-Robots-Tag:noindex
X-PUBLISHED-TTL:PT1H
BEGIN:VTIMEZONE
TZID:America/Los_Angeles
BEGIN:DAYLIGHT
TZOFFSETFROM:-0800
TZOFFSETTO:-0700
TZNAME:PDT
DTSTART:20250309T100000
END:DAYLIGHT
BEGIN:STANDARD
TZOFFSETFROM:-0700
TZOFFSETTO:-0800
TZNAME:PST
DTSTART:20251102T090000
END:STANDARD
BEGIN:DAYLIGHT
TZOFFSETFROM:-0800
TZOFFSETTO:-0700
TZNAME:PDT
DTSTART:20260308T100000
END:DAYLIGHT
BEGIN:STANDARD
TZOFFSETFROM:-0700
TZOFFSETTO:-0800
TZNAME:PST
DTSTART:20261101T090000
END:STANDARD
BEGIN:DAYLIGHT
TZOFFSETFROM:-0800
TZOFFSETTO:-0700
TZNAME:PDT
DTSTART:20270314T100000
END:DAYLIGHT
BEGIN:STANDARD
TZOFFSETFROM:-0700
TZOFFSETTO:-0800
TZNAME:PST
DTSTART:20271107T090000
END:STANDARD
END:VTIMEZONE
BEGIN:VEVENT
DTSTART;TZID=America/Los_Angeles:20260304T080000
DTEND;TZID=America/Los_Angeles:20260304T170000
DTSTAMP:20260425T085322
CREATED:20260306T054920Z
LAST-MODIFIED:20260306T054922Z
UID:36443-1772611200-1772643600@www.srsymphony.org
SUMMARY:Carmina Burana
DESCRIPTION:Concert Conversations with Francesco Lecce-Chong\n\n\n\nConcert Conversations are general seating and free to Classical Series concert ticket holders. Approximately 30 minutes in Weill Hall. \n\n\n\n\nSaturday\, April 10\, 2027 at 6:30 pm\n\n\n\nSunday\, April 11\, 2027 at 2:00 pm\n\n\n\nMonday\, April 12\, 2027 at 6:30 pm\n\n\n\n\nTickets\n\n\n\n$10 student rush tickets for college students with a valid student ID. Available starting 1-1/2 hours prior to the concert\, at the door only. Classical Series concerts only. \n\n\n\nYouths 7-17 years of age may receive one complimentary ticket with every paid adult. Request tickets through Patron Services at (707) 546-8742. Classical Series concerts only. \n\n\n\n7-Concert Classical Series subscriptions on sale starting March 9\, 2026. To order\, please call Patron Services at (707) 546-8742. Subscriptions available online starting May 11\, 2026. \n\n\n\n\n\n\n\nPlan Your Visit\n\n\n\n              \n               \n               \n                    \n                        \n							                            														\n							\n\n    Season Tickets                            \n                            							                            														\n							\n\n    Learn About Discovery Rehearsals                            \n                            							                            														\n							\n\n    Seating Map                            \n                            							                            														\n							\n\n    Directions & More                            \n                            							                            														\n							\n\n    Before the Concert                            \n                            							                            														\n							\n\n    After the Concert                            \n                            							                        \n                    \n            \n              \n      \n\n\n\nWe gratefully acknowledge the generous contributions from the following:\n\n\n\nClassical Series underwritten by Anderman Family Foundation \n\n\n\n\n\n\n\nPrograms\, dates\, artists\, and prices are subject to change without notice. Tickets are subject to availability.\n\n\n\nPhoto by Anna Azarov and Jiyang Chen
URL:https://www.srsymphony.org/event/carmina-burana/
CATEGORIES:Classical Series
ATTACH;FMTTYPE=image/jpeg:https://www.srsymphony.org/wp-content/uploads/2026/02/27-set-6-photos-by-anna-ararov-and-jiyang-chen-600x400.jpg
END:VEVENT
BEGIN:VEVENT
DTSTART;TZID=America/Los_Angeles:20260304T080000
DTEND;TZID=America/Los_Angeles:20260304T170000
DTSTAMP:20260425T085322
CREATED:20260306T054944Z
LAST-MODIFIED:20260306T061316Z
UID:36449-1772611200-1772643600@www.srsymphony.org
SUMMARY:Pictures at an Exhibition
DESCRIPTION:Concert Conversations with Francesco Lecce-Chong\n\n\n\nConcert Conversations are general seating and free to Classical Series concert ticket holders. Approximately 30 minutes in Weill Hall. \n\n\n\n\nSaturday\, May 8\, 2027 at 6:30 pm\n\n\n\nSunday\, May 9\, 2027 at 2:00 pm\n\n\n\nMonday\, May 10\, 2027 at 6:30 pm\n\n\n\n\nTickets\n\n\n\n$10 student rush tickets for college students with a valid student ID. Available starting 1-1/2 hours prior to the concert\, at the door only. Classical Series concerts only. \n\n\n\nYouths 7-17 years of age may receive one complimentary ticket with every paid adult. Request tickets through Patron Services at (707) 546-8742. Classical Series concerts only. \n\n\n\n7-Concert Classical Series subscriptions on sale starting March 9\, 2026. To order\, please call Patron Services at (707) 546-8742. Subscriptions available online starting May 11\, 2026. \n\n\n\n\n\n\n\nPlan Your Visit\n\n\n\n              \n               \n               \n                    \n                        \n							                            														\n							\n\n    Season Tickets                            \n                            							                            														\n							\n\n    Learn About Discovery Rehearsals                            \n                            							                            														\n							\n\n    Seating Map                            \n                            							                            														\n							\n\n    Directions & More                            \n                            							                            														\n							\n\n    Before the Concert                            \n                            							                            														\n							\n\n    After the Concert                            \n                            							                        \n                    \n            \n              \n      \n\n\n\nWe gratefully acknowledge the generous contributions from the following:\n\n\n\nClassical Series underwritten by Anderman Family Foundation \n\n\n\n\n\n\n\nPrograms\, dates\, artists\, and prices are subject to change without notice. Tickets are subject to availability.\n\n\n\nPhoto by Ivan Bessedin
URL:https://www.srsymphony.org/event/pictures-at-an-exhibition/
CATEGORIES:Classical Series
ATTACH;FMTTYPE=image/jpeg:https://www.srsymphony.org/wp-content/uploads/2026/02/27-set-7-elina-vahala-photo-by-ivan-bessedin-600x400.jpg
END:VEVENT
BEGIN:VEVENT
DTSTART;TZID=America/Los_Angeles:20260304T080000
DTEND;TZID=America/Los_Angeles:20260304T170000
DTSTAMP:20260425T085322
CREATED:20260306T055007Z
LAST-MODIFIED:20260306T055008Z
UID:36473-1772611200-1772643600@www.srsymphony.org
SUMMARY:Winterlude... Handel's Messiah
DESCRIPTION:Concert Conversations with Francesco Lecce-Chong\n\n\n\nConcert Conversations are general seating and free to Classical Series concert ticket holders. Approximately 30 minutes in Weill Hall. \n\n\n\n\nSaturday\, December 12\, 2026 at 6:30 pm\n\n\n\nSunday\, December 13\, 2026 at 2:00 pm\n\n\n\n\nTickets\n\n\n\n$10 student rush tickets for college students with a valid student ID. Available starting 1-1/2 hours prior to the concert\, at the door only. Classical Series concerts only. \n\n\n\nYouths 7-17 years of age may receive one complimentary ticket with every paid adult. Request tickets through Patron Services at (707) 546-8742. Classical Series concerts only. \n\n\n\nSingle tickets available starting August 3\, 2026. \n\n\n\n\n\n\n\nPlan Your Visit\n\n\n\n              \n               \n               \n                    \n                        \n							                            														\n							\n\n    Season Tickets                            \n                            							                            														\n							\n\n    Learn About Discovery Rehearsals                            \n                            							                            														\n							\n\n    Seating Map                            \n                            							                            														\n							\n\n    Directions & More                            \n                            							                            														\n							\n\n    Before the Concert                            \n                            							                            														\n							\n\n    After the Concert                            \n                            							                        \n                    \n            \n              \n      \n\n\n\n\n\n\n\nPrograms\, dates\, artists\, and prices are subject to change without notice. Tickets are subject to availability.
URL:https://www.srsymphony.org/event/winterlude-handels-messiah/
CATEGORIES:Special Event
ATTACH;FMTTYPE=image/jpeg:https://www.srsymphony.org/wp-content/uploads/2026/03/27-winterlude-600x400.jpg
END:VEVENT
BEGIN:VEVENT
DTSTART;TZID=America/Los_Angeles:20260304T080000
DTEND;TZID=America/Los_Angeles:20260304T170000
DTSTAMP:20260425T085322
CREATED:20260306T055034Z
LAST-MODIFIED:20260320T174930Z
UID:36485-1772611200-1772643600@www.srsymphony.org
SUMMARY:Road to 100\, The Complete Beethoven Symphonies\, Year 4
DESCRIPTION:Beethoven BBQ\n\n\n\nJoin us for a no-host Beethoven BBQ immediately following the concert. Open to all ticket holders! \n\n\n\nConcert Conversations with Francesco Lecce-Chong\n\n\n\nConcert Conversations are general seating and free to concert ticket holders. Approximately 30 minutes in Weill Hall.Sunday\, June 6\, 2027 at 2:00 pm \n\n\n\nTickets\n\n\n\n$10 student rush tickets for college students with a valid student ID. Available starting 1-1/2 hours prior to the concert\, at the door only. Classical Series concerts only. \n\n\n\nYouths 7-17 years of age may receive one complimentary ticket with every paid adult. Request tickets through Patron Services at (707) 546-8742.  \n\n\n\nSingle tickets on sale August 3\, 2026. \n\n\n\n\n\n\n\nPlan Your Visit\n\n\n\n              \n               \n               \n                    \n                        \n							                            														\n							\n\n    Season Tickets                            \n                            							                            														\n							\n\n    Learn About Discovery Rehearsals                            \n                            							                            														\n							\n\n    Seating Map                            \n                            							                            														\n							\n\n    Directions & More                            \n                            							                            														\n							\n\n    Before the Concert                            \n                            							                            														\n							\n\n    After the Concert                            \n                            							                        \n                    \n            \n              \n      \n\n\n\n\n\n\n\nPrograms\, dates\, artists\, and prices are subject to change without notice. Tickets are subject to availability.\n\n\n\nPhoto by Susan and Neil Silverman Photography
URL:https://www.srsymphony.org/event/road-to-100-the-complete-beethoven-symphonies-year-4/
CATEGORIES:Special Event
ATTACH;FMTTYPE=image/jpeg:https://www.srsymphony.org/wp-content/uploads/2026/03/flc-road-to-100-600x400-photo-by-susan-and-neil-silverman-photography.jpg
END:VEVENT
BEGIN:VEVENT
DTSTART;TZID=America/Los_Angeles:20260328T190000
DTEND;TZID=America/Los_Angeles:20260328T190000
DTSTAMP:20260425T085322
CREATED:20251205T233309Z
LAST-MODIFIED:20260302T173657Z
UID:35888-1774724400-1774724400@www.srsymphony.org
SUMMARY:Suspended Like a Cloud: Young People's Chamber Orchestra
DESCRIPTION:Repertoire subject to change \n\n\n\nTicket Information\n\n\n\nPre-concert $15/adult\, $5/youth                  \n\n\n\nAt the Door$20/adult\, $10/youth \n\n\n\nPlease note: the pre-concert price is valid until 11 AM of the Friday preceding the concert. After that\, tickets can only be purchased at the door. \n\n\n\nTickets for this concert are sold through the Phoenix Theater.  \n\n\n\nTicket fees apply for all online orders. We suggest buying your ticket in advance on line. For door ticket\, sales we suggest paying with cash. \n\n\n\n\n\n\n\nWe gratefully acknowledge the generous contributions from the following:\n\n\n\nYoung People’s Chamber Orchestra is sponsored by Garth Bixler \n\n\n\n\n\n\n\nPrograms\, dates\, artists\, and prices are subject to change without notice. Tickets are nonrefundable and subject to availability.\n\n\n\nPhoto by Susan & Neil Silverman Photography
URL:https://www.srsymphony.org/event/young-peoples-chamber-orchestra/
CATEGORIES:Youth Ensemble
ATTACH;FMTTYPE=image/jpeg:https://www.srsymphony.org/wp-content/uploads/2026/01/26-ypco-600x400-photo-by-susan-and-neil-silverman-photography.jpg
END:VEVENT
END:VCALENDAR