BEGIN:VCALENDAR
VERSION:2.0
PRODID:-//Santa Rosa Symphony - ECPv6.15.18//NONSGML v1.0//EN
CALSCALE:GREGORIAN
METHOD:PUBLISH
X-ORIGINAL-URL:https://www.srsymphony.org
X-WR-CALDESC:Events for Santa Rosa Symphony
REFRESH-INTERVAL;VALUE=DURATION:PT1H
X-Robots-Tag:noindex
X-PUBLISHED-TTL:PT1H
BEGIN:VTIMEZONE
TZID:America/Los_Angeles
BEGIN:DAYLIGHT
TZOFFSETFROM:-0800
TZOFFSETTO:-0700
TZNAME:PDT
DTSTART:20240310T100000
END:DAYLIGHT
BEGIN:STANDARD
TZOFFSETFROM:-0700
TZOFFSETTO:-0800
TZNAME:PST
DTSTART:20241103T090000
END:STANDARD
BEGIN:DAYLIGHT
TZOFFSETFROM:-0800
TZOFFSETTO:-0700
TZNAME:PDT
DTSTART:20250309T100000
END:DAYLIGHT
BEGIN:STANDARD
TZOFFSETFROM:-0700
TZOFFSETTO:-0800
TZNAME:PST
DTSTART:20251102T090000
END:STANDARD
BEGIN:DAYLIGHT
TZOFFSETFROM:-0800
TZOFFSETTO:-0700
TZNAME:PDT
DTSTART:20260308T100000
END:DAYLIGHT
BEGIN:STANDARD
TZOFFSETFROM:-0700
TZOFFSETTO:-0800
TZNAME:PST
DTSTART:20261101T090000
END:STANDARD
END:VTIMEZONE
BEGIN:VEVENT
DTSTART;TZID=America/Los_Angeles:20250603T080000
DTEND;TZID=America/Los_Angeles:20250603T170000
DTSTAMP:20260425T042908
CREATED:20250605T233550Z
LAST-MODIFIED:20250715T164008Z
UID:34626-1748937600-1748970000@www.srsymphony.org
SUMMARY:Vivaldi’s Four Seasons
DESCRIPTION:Symphony Uncorked\n\n\n\nExperience the perfect blend of classical music and fine wine with Symphony Uncorked—a series of relaxed\, intimate chamber music performances set among the beautiful landscapes of Sonoma County. \n\n\n\nCurated and hosted by Francesco Lecce-Chong\, Music Director of Santa Rosa Symphony\, Symphony Uncorked brings you up close and personal with the musicians\, offering an informal and intimate concert experience that’s unlike any traditional symphony hall. From classic masterpieces to delightful arrangements of popular music\, the repertoire is diverse\, engaging\, and designed to complement the stunning vineyard surroundings. \n\n\n\nAfter the music\, stay and mingle with Francesco\, fellow guests and performers\, savoring the moment with a glass of wine and warm summer air. Join us as we uncork a full-bodied celebration of music\, wine and summer splendor. \n\n\n\nConcert Tickets\n\n\n\nThis concert is sold out.Tickets are non-refundable and are subject to availability. Program\, artists\, prices and date are subject to change. \n\n\n\nEnjoy Trione Vineyards and Winery\n\n\n\nArrive early and enjoy an exquisite wine tasting experience: 11:00 AM to 4:30 PM. For more information…Wine is not included in price of ticket. You may also purchase a glass of wine\, or bottle\, immediately after the concert. \n\n\n\nAbout Trione Vineyards and Winery\n\n\n\nExplore the heart of Sonoma County at Trione Vineyards and Winery\, a cornerstone of the Alexander Valley wine scene. With a heritage spanning over four decades\, the Trione family\, led by brothers Mark and Vic\, has been synonymous with high-quality winemaking and vineyard management. \n\n\n\nOur estate vineyards cover nearly 600 acres across Sonoma County’s most renowned appellations: Alexander Valley\, Russian River Valley\, and Sonoma Coast. Discover the dedication to land and legacy that began with our founder\, Henry Trione\, and continues to this day lead by the vision of his granddaughter\, Denise Trione-Hicks. \n\n\n\nWinemaker\, John Duckett\, celebrates nature’s bounty by gently elevating the natural aromas and flavors that come directly from the terroir. He approaches winemaking with a with a delicate touch\, ensuring varietals remain true to their origin. Collaborating with Vineyard Manager Kris Hicks\, John aligns with the family’s belief that truly memorable wines can only be made from the highest quality grapes. \n\n\n\nExperience an award-winning selection of wines at our Geyserville winery and historic Stone Building (est. 1908). The winery property is surrounded by the vineyards of our Nervo-Home Ranch and looks out at the Mayacama Mountains in the background. \n\n\n\nTrione Vineyards & Winery is located at 19550 Geyserville Ave.\, Geyserville\, CA. Please visit their website for more information about the winery. \n\n\n\nSymphony Uncorked is underwritten by\n\n\n\nThe Dorothea Rowena Lyman Fund
URL:https://www.srsymphony.org/event/vivaldis-four-seasons/
CATEGORIES:Special Event
ATTACH;FMTTYPE=image/jpeg:https://www.srsymphony.org/wp-content/uploads/2025/06/26-symphony-uncorked-trione-600x400.jpg
END:VEVENT
BEGIN:VEVENT
DTSTART;TZID=America/Los_Angeles:20250603T080000
DTEND;TZID=America/Los_Angeles:20250603T170000
DTSTAMP:20260425T042908
CREATED:20250605T233800Z
LAST-MODIFIED:20250731T142617Z
UID:34642-1748937600-1748970000@www.srsymphony.org
SUMMARY:Winds in the Vines
DESCRIPTION:Symphony Uncorked\n\n\n\nExperience the perfect blend of classical music and fine wine with Symphony Uncorked—a series of relaxed\, intimate chamber music performances set among the beautiful landscapes of Sonoma County. \n\n\n\nCurated and hosted by Francesco Lecce-Chong\, Music Director of Santa Rosa Symphony\, Symphony Uncorked brings you up close and personal with the musicians\, offering an informal and intimate concert experience that’s unlike any traditional symphony hall. From classic masterpieces to delightful arrangements of popular music\, the repertoire is diverse\, engaging\, and designed to complement the stunning vineyard surroundings. \n\n\n\nAfter the music\, stay and mingle with Francesco\, fellow guests and performers\, savoring the moment with a glass of wine and warm summer air. Join us as we uncork a full-bodied celebration of music\, wine and summer splendor. \n\n\n\nConcert Tickets\n\n\n\nThis concert is sold out.Tickets are non-refundable and are subject to availability. Program\, artists\, prices and date are subject to change. \n\n\n\nAbout Paradise Ridge Winery\n\n\n\nParadise Ridge Winery is located at 4545 Thomas Lake Harris Dr Santa Rosa CA. Please visit their website for more information about the winery. \n\n\n\nSymphony Uncorked is underwritten by\n\n\n\nThe Dorothea Rowena Lyman Fund
URL:https://www.srsymphony.org/event/winds-in-the-vines/
CATEGORIES:Special Event
ATTACH;FMTTYPE=image/jpeg:https://www.srsymphony.org/wp-content/uploads/2025/06/26-symphony-uncorked-paradise-ridge-generic-1200x800.jpg
END:VEVENT
BEGIN:VEVENT
DTSTART;TZID=America/Los_Angeles:20250603T080000
DTEND;TZID=America/Los_Angeles:20250603T170000
DTSTAMP:20260425T042908
CREATED:20250605T233911Z
LAST-MODIFIED:20250806T235040Z
UID:34646-1748937600-1748970000@www.srsymphony.org
SUMMARY:Sunset Suites
DESCRIPTION:Symphony Uncorked\n\n\n\nExperience the perfect blend of classical music and fine wine with Symphony Uncorked—a series of relaxed\, intimate chamber music performances set among the beautiful landscapes of Sonoma County. \n\n\n\nCurated and hosted by Francesco Lecce-Chong\, Music Director of Santa Rosa Symphony\, Symphony Uncorked brings you up close and personal with the musicians\, offering an informal and intimate concert experience that’s unlike any traditional symphony hall. From classic masterpieces to delightful arrangements of popular music\, the repertoire is diverse\, engaging\, and designed to complement the stunning vineyard surroundings. \n\n\n\nAfter the music\, stay and mingle with Francesco\, fellow guests and performers\, savoring the moment with a glass of wine and warm summer air. Join us as we uncork a full-bodied celebration of music\, wine and summer splendor. \n\n\n\nConcert Tickets\n\n\n\nGeneral Seating: $60/personPurchase all three concerts: $150/person \n\n\n\nTickets on sale Monday\, June 9\, 2025\, at 10:00 am \n\n\n\nTickets can be purchased online by clicking on the link above or by calling Patron Services at (707) 546-8742.Package price can only be purchased by phone.Tickets are non-refundable and are subject to availability. Program\, artists\, prices and date are subject to change. \n\n\n\nEnjoy Deerfield Ranch Winery\n\n\n\nArrive early and enjoy an exquisite wine tasting experience: 10:30 AM to 4:30 PM. For more information…Wine is not included in price of ticket. You may also purchase a glass of wine\, or bottle\, immediately after the concert. \n\n\n\nAbout Deerfield Ranch Winery\n\n\n\nPJ and Robert met at Berkeley in 1968. Robert\, a back yard mechanic\, kept PJ’s Italian sports cars running – takes an Italian to do that. As a thank you\, PJ gave Robert\, who was already interested in fine wine\, a winemaking kit – seemed a good gift for a chemist grad. Robert made his first wine in his garage in Berkeley in 1972. He entered it in the California State Fair and took home the Best of Show Award. Robert found his passion and continued making wine in his garage\, turned winery\, for his family and friends. \n\n\n\nTen years later\, PJ and Robert left their good jobs in the city to pursue their dream of owning a winery in the Sonoma Valley. In 1982\, they bought the Deerfield Ranch in Glen Ellen where they got married and turned the horse barn into their first winery. The Rexes still live there today\, however\, in 2000\, they bought 47 acres on Highway 12 in Kenwood to expand the winery operation. The Deerfield Ranch Winery is still family owned and operated producing about 20\,000 cases a year. \n\n\n\nOur wines are barrel aged in the 23\,000 sq. ft. cave\, also home to the tasting room open daily to the public. Winemaker Robert Rex was the pioneer of the cleanwine® movement and can often be seen at the winery. His philosophy is “Wine should be good and good for you.” Come taste the passion!Deerfield Ranch Winery is located at 10200 Sonoma Hwy Kenwood\, CA. Please visit their website for more information about the winery. \n\n\n\nThis concert will take place outdoors.\n\n\n\nSymphony Uncorked is underwritten by\n\n\n\nThe Dorothea Rowena Lyman Fund
URL:https://www.srsymphony.org/event/sunset-suites/
CATEGORIES:Special Event
ATTACH;FMTTYPE=image/jpeg:https://www.srsymphony.org/wp-content/uploads/2025/06/26-symphony-uncorked-deerfield-600x400.jpg
END:VEVENT
END:VCALENDAR